BEGIN:VCALENDAR
VERSION:2.0
PRODID:-//GOLFCLUB PETERSBERG  - Golf in South Tyrol - ECPv6.15.20//NONSGML v1.0//EN
CALSCALE:GREGORIAN
METHOD:PUBLISH
X-ORIGINAL-URL:https://golfclubpetersberg.it/en/
X-WR-CALDESC:Events for GOLFCLUB PETERSBERG  - Golf in South Tyrol
REFRESH-INTERVAL;VALUE=DURATION:PT1H
X-Robots-Tag:noindex
X-PUBLISHED-TTL:PT1H
BEGIN:VTIMEZONE
TZID:Europe/Rome
BEGIN:DAYLIGHT
TZOFFSETFROM:+0100
TZOFFSETTO:+0200
TZNAME:CEST
DTSTART:20160327T010000
END:DAYLIGHT
BEGIN:STANDARD
TZOFFSETFROM:+0200
TZOFFSETTO:+0100
TZNAME:CET
DTSTART:20161030T010000
END:STANDARD
BEGIN:DAYLIGHT
TZOFFSETFROM:+0100
TZOFFSETTO:+0200
TZNAME:CEST
DTSTART:20170326T010000
END:DAYLIGHT
BEGIN:STANDARD
TZOFFSETFROM:+0200
TZOFFSETTO:+0100
TZNAME:CET
DTSTART:20171029T010000
END:STANDARD
BEGIN:DAYLIGHT
TZOFFSETFROM:+0100
TZOFFSETTO:+0200
TZNAME:CEST
DTSTART:20180325T010000
END:DAYLIGHT
BEGIN:STANDARD
TZOFFSETFROM:+0200
TZOFFSETTO:+0100
TZNAME:CET
DTSTART:20181028T010000
END:STANDARD
END:VTIMEZONE
BEGIN:VEVENT
DTSTART;VALUE=DATE:20170507
DTEND;VALUE=DATE:20170508
DTSTAMP:20260420T202510
CREATED:20170731T101645Z
LAST-MODIFIED:20170731T101645Z
UID:5964-1494115200-1494201599@golfclubpetersberg.it
SUMMARY:Star Tour 1
DESCRIPTION:[vc_row type=”in_container” full_screen_row_position=”middle” scene_position=”center” text_color=”dark” text_align=”left” overlay_strength=”0.3″][vc_column column_padding=”no-extra-padding” column_padding_position=”all” background_color_opacity=”1″ background_hover_color_opacity=”1″ column_shadow=”none” width=”1/1″ tablet_text_alignment=”default” phone_text_alignment=”default” column_border_width=”none” column_border_style=”solid”][vc_column_text] \nErgebnislisten – Risultati\nBei Gleichstand entscheidet das bessere Resultat auf den Löchern mit HCP 1\, 2\, 3 usw.\nIn caso di pari merito conta il miglior risultato sulle buche con HCP 1\, 2\, 3 etc. \nBrutto – Lordo \nNetto 1     –     Netto 2     –     Netto 3[/vc_column_text][/vc_column][/vc_row][vc_row type=”in_container” full_screen_row_position=”middle” scene_position=”center” text_color=”dark” text_align=”left” overlay_strength=”0.3″][vc_column column_padding=”no-extra-padding” column_padding_position=”all” background_color_opacity=”1″ background_hover_color_opacity=”1″ column_shadow=”none” width=”1/1″ tablet_text_alignment=”default” phone_text_alignment=”default” column_border_width=”none” column_border_style=”solid”][vc_gallery type=”image_grid” images=”2022\,2023\,2024\,2025\,2026\,2027\,2028\,2029\,2030\,2031\,2032\,2033\,2034\,2035\,2036\,2037″ layout=”4″ masonry_style=”true” gallery_style=”3″ load_in_animation=”fade_in_from_bottom” img_size=”medium”][/vc_column][/vc_row]
URL:https://golfclubpetersberg.it/en/event/star-tour-1/
LOCATION:Golfclub Petersberg\, Unterwinkl 5\, Petersberg\, 39050\, Italia
ORGANIZER;CN="Golfclub Petersberg":MAILTO:info@golfclubpetersberg.it
END:VEVENT
BEGIN:VEVENT
DTSTART;VALUE=DATE:20170513
DTEND;VALUE=DATE:20170514
DTSTAMP:20260420T202510
CREATED:20170731T095830Z
LAST-MODIFIED:20170731T095830Z
UID:5962-1494633600-1494719999@golfclubpetersberg.it
SUMMARY:GOLF & ASPARAGUS
DESCRIPTION:[vc_row type=”in_container” full_screen_row_position=”middle” scene_position=”center” text_color=”dark” text_align=”left” overlay_strength=”0.3″][vc_column column_padding=”no-extra-padding” column_padding_position=”all” background_color_opacity=”1″ background_hover_color_opacity=”1″ column_shadow=”none” width=”1/1″ tablet_text_alignment=”default” phone_text_alignment=”default” column_border_width=”none” column_border_style=”solid”][vc_column_text]\nGOLF & ASPARAGUS\nSamstag – Sabato\, 13.05.2017 \n     \nSabato giochiamo una piccola gara con partenza alle ore 12.00\ned una cena a base di asparagi a fine gara: \nProgramma: \nAlle ore 12.00 faremo l’estrazione degli Flights e subito dopo\npartiamo per le 18 buche con formula stableford: \nDopo il giro è prevista una cena con il seguente menù: \nPunte di asparagi marinati con coda di rospo \n* * *\nEssenza agli asparagi con gnocchi di asparagi \n* * *\nCuscinetti di pasta sfoglia con ragù di asparagi e porcini \n* * *\nMedaglioni di cervo alla griglia su salsa al vino rosso \ncon asparagi bianchi e verdi e polenta \n* * *\nCrème brûlée con fragole marinate e gelato alla vaniglia \nVini: \nPinot bianco Plötzner della Cantina St. Pauls di Appiano \nSoma magnum (Merlot – Cabernet) della Cantina di Cortaccia \nL’iscrizione alla gara è di 20 Euro + 50 Euro per\nla cena compreso di vino. \nIl numero di partecipanti è limitato a ca. 24.[/vc_column_text][/vc_column][/vc_row][vc_row type=”in_container” full_screen_row_position=”middle” scene_position=”center” text_color=”dark” text_align=”left” disable_element=”yes” overlay_strength=”0.3″][vc_column column_padding=”no-extra-padding” column_padding_position=”all” background_color_opacity=”1″ background_hover_color_opacity=”1″ column_shadow=”none” width=”1/1″ tablet_text_alignment=”default” phone_text_alignment=”default” column_border_width=”none” column_border_style=”solid”][vc_gallery type=”image_grid” layout=”4″ masonry_style=”true” gallery_style=”3″ load_in_animation=”fade_in_from_bottom” img_size=”medium”][/vc_column][/vc_row]
URL:https://golfclubpetersberg.it/en/event/golf-asparagus/
LOCATION:Golfclub Petersberg\, Unterwinkl 5\, Petersberg\, 39050\, Italia
ORGANIZER;CN="Golfclub Petersberg":MAILTO:info@golfclubpetersberg.it
END:VEVENT
BEGIN:VEVENT
DTSTART;VALUE=DATE:20170521
DTEND;VALUE=DATE:20170522
DTSTAMP:20260420T202510
CREATED:20170731T102002Z
LAST-MODIFIED:20170731T102002Z
UID:5960-1495324800-1495411199@golfclubpetersberg.it
SUMMARY:Star Tour 2nd
DESCRIPTION:[vc_row type=”in_container” full_screen_row_position=”middle” scene_position=”center” text_color=”dark” text_align=”left” overlay_strength=”0.3″][vc_column column_padding=”no-extra-padding” column_padding_position=”all” background_color_opacity=”1″ background_hover_color_opacity=”1″ column_shadow=”none” width=”1/1″ tablet_text_alignment=”default” phone_text_alignment=”default” column_border_width=”none” column_border_style=”solid”][vc_column_text]\n\n\n\n \nBRUTTO – LORDO \nNETTO-1     NETTO-2 \n\n\n[/vc_column_text][/vc_column][/vc_row][vc_row type=”in_container” full_screen_row_position=”middle” scene_position=”center” text_color=”dark” text_align=”left” overlay_strength=”0.3″][vc_column column_padding=”no-extra-padding” column_padding_position=”all” background_color_opacity=”1″ background_hover_color_opacity=”1″ column_shadow=”none” width=”1/1″ tablet_text_alignment=”default” phone_text_alignment=”default” column_border_width=”none” column_border_style=”solid”][vc_gallery type=”image_grid” images=”2040\,2041\,2042\,2043\,2044\,2045\,2046\,2047\,2048\,2049\,2050\,2051\,2052\,2053\,2054\,2055\,2056\,2057\,2058\,2059″ layout=”4″ masonry_style=”true” gallery_style=”3″ load_in_animation=”fade_in_from_bottom” img_size=”medium”][/vc_column][/vc_row]
URL:https://golfclubpetersberg.it/en/event/star-tour-2nd/
LOCATION:Golfclub Petersberg\, Unterwinkl 5\, Petersberg\, 39050\, Italia
ORGANIZER;CN="Golfclub Petersberg":MAILTO:info@golfclubpetersberg.it
END:VEVENT
BEGIN:VEVENT
DTSTART;VALUE=DATE:20170528
DTEND;VALUE=DATE:20170529
DTSTAMP:20260420T202510
CREATED:20170731T100614Z
LAST-MODIFIED:20170731T100614Z
UID:5958-1495929600-1496015999@golfclubpetersberg.it
SUMMARY:Lions Golf Trophy
DESCRIPTION:[vc_row type=”in_container” full_screen_row_position=”middle” scene_position=”center” text_color=”dark” text_align=”left” overlay_strength=”0.3″][vc_column column_padding=”no-extra-padding” column_padding_position=”all” background_color_opacity=”1″ background_hover_color_opacity=”1″ column_shadow=”none” width=”1/1″ tablet_text_alignment=”default” phone_text_alignment=”default” column_border_width=”none” column_border_style=”solid”][vc_column_text] \nERGEBNISSE  –  RISULTATI \nBrutto – Lordo    Netto-1    Netto-2    Netto-3 \n  \n[/vc_column_text][/vc_column][/vc_row][vc_row type=”in_container” full_screen_row_position=”middle” scene_position=”center” text_color=”dark” text_align=”left” overlay_strength=”0.3″][vc_column column_padding=”no-extra-padding” column_padding_position=”all” background_color_opacity=”1″ background_hover_color_opacity=”1″ column_shadow=”none” width=”1/1″ tablet_text_alignment=”default” phone_text_alignment=”default” column_border_width=”none” column_border_style=”solid”][vc_gallery type=”image_grid” images=”1978\,1979\,1980\,1981\,1982\,1983\,1984\,1985\,1986\,1987″ layout=”4″ masonry_style=”true” gallery_style=”3″ load_in_animation=”fade_in_from_bottom” img_size=”medium”][/vc_column][/vc_row]
URL:https://golfclubpetersberg.it/en/event/lions-golf-trophy/
LOCATION:Golfclub Petersberg\, Unterwinkl 5\, Petersberg\, 39050\, Italia
ORGANIZER;CN="Golfclub Petersberg":MAILTO:info@golfclubpetersberg.it
END:VEVENT
BEGIN:VEVENT
DTSTART;VALUE=DATE:20170531
DTEND;VALUE=DATE:20170601
DTSTAMP:20260420T202510
CREATED:20170731T100939Z
LAST-MODIFIED:20170731T100939Z
UID:5954-1496188800-1496275199@golfclubpetersberg.it
SUMMARY:PRIMA GOLF CUP
DESCRIPTION:[vc_row type=”in_container” full_screen_row_position=”middle” scene_position=”center” text_color=”dark” text_align=”left” overlay_strength=”0.3″][vc_column column_padding=”no-extra-padding” column_padding_position=”all” background_color_opacity=”1″ background_hover_color_opacity=”1″ column_shadow=”none” width=”1/1″ tablet_text_alignment=”default” phone_text_alignment=”default” column_border_width=”none” column_border_style=”solid”][vc_column_text]\nPRIMA GOLF CUP\nEinladungsturnier – Gara ad invito \n \n \nhttps://www.prima-net.it    *     info@prima-net.it \nERGEBNISSE – RISULTATI\n\nBrutto / Lordo     Netto-1    Netto-2    Netto-3 \n  \n \n  \nFOTOS AUF STOL \n  \nFOTOS AUF FACEBOOK[/vc_column_text][/vc_column][/vc_row][vc_row type=”in_container” full_screen_row_position=”middle” scene_position=”center” text_color=”dark” text_align=”left” disable_element=”yes” overlay_strength=”0.3″][vc_column column_padding=”no-extra-padding” column_padding_position=”all” background_color_opacity=”1″ background_hover_color_opacity=”1″ column_shadow=”none” width=”1/1″ tablet_text_alignment=”default” phone_text_alignment=”default” column_border_width=”none” column_border_style=”solid”][vc_gallery type=”image_grid” layout=”4″ masonry_style=”true” gallery_style=”3″ load_in_animation=”fade_in_from_bottom” img_size=”medium”][/vc_column][/vc_row]
URL:https://golfclubpetersberg.it/en/event/prima-golf-cup/
LOCATION:Golfclub Petersberg\, Unterwinkl 5\, Petersberg\, 39050\, Italia
ORGANIZER;CN="Golfclub Petersberg":MAILTO:info@golfclubpetersberg.it
END:VEVENT
END:VCALENDAR