BEGIN:VCALENDAR
VERSION:2.0
PRODID:-//GOLFCLUB PETERSBERG  - Golf in South Tyrol - ECPv6.15.20//NONSGML v1.0//EN
CALSCALE:GREGORIAN
METHOD:PUBLISH
X-WR-CALNAME:GOLFCLUB PETERSBERG  - Golf in South Tyrol
X-ORIGINAL-URL:https://golfclubpetersberg.it/en/
X-WR-CALDESC:Events for GOLFCLUB PETERSBERG  - Golf in South Tyrol
REFRESH-INTERVAL;VALUE=DURATION:PT1H
X-Robots-Tag:noindex
X-PUBLISHED-TTL:PT1H
BEGIN:VTIMEZONE
TZID:Europe/Rome
BEGIN:DAYLIGHT
TZOFFSETFROM:+0100
TZOFFSETTO:+0200
TZNAME:CEST
DTSTART:20160327T010000
END:DAYLIGHT
BEGIN:STANDARD
TZOFFSETFROM:+0200
TZOFFSETTO:+0100
TZNAME:CET
DTSTART:20161030T010000
END:STANDARD
BEGIN:DAYLIGHT
TZOFFSETFROM:+0100
TZOFFSETTO:+0200
TZNAME:CEST
DTSTART:20170326T010000
END:DAYLIGHT
BEGIN:STANDARD
TZOFFSETFROM:+0200
TZOFFSETTO:+0100
TZNAME:CET
DTSTART:20171029T010000
END:STANDARD
BEGIN:DAYLIGHT
TZOFFSETFROM:+0100
TZOFFSETTO:+0200
TZNAME:CEST
DTSTART:20180325T010000
END:DAYLIGHT
BEGIN:STANDARD
TZOFFSETFROM:+0200
TZOFFSETTO:+0100
TZNAME:CET
DTSTART:20181028T010000
END:STANDARD
END:VTIMEZONE
BEGIN:VEVENT
DTSTART;VALUE=DATE:20170903
DTEND;VALUE=DATE:20170904
DTSTAMP:20260420T142159
CREATED:20170725T092151Z
LAST-MODIFIED:20170917T193333Z
UID:3025-1504396800-1504483199@golfclubpetersberg.it
SUMMARY:MIRO GOLF TROPHY 2017
DESCRIPTION:[vc_row type=”in_container” full_screen_row_position=”middle” scene_position=”center” text_color=”dark” text_align=”left” overlay_strength=”0.3″][vc_column column_padding=”no-extra-padding” column_padding_position=”all” background_color_opacity=”1″ background_hover_color_opacity=”1″ column_shadow=”none” width=”1/1″ tablet_text_alignment=”default” phone_text_alignment=”default” column_border_width=”none” column_border_style=”solid”][vc_column_text]MIRÒ GOLF TROPHY 2017 \nAm Sonntag\, 3. September spielen wir das Turnier Mirò Golf Trophy\, organisiert von Fam. Gallmetzer und dem Team von Mirò – Bozen. \nGespielt werden 18 Loch stableford für 3 Kategorien\, und gestartet wird mit einem Kanonenstart um 10.00 Uhr. Gleich nach dem Turnier sind alle Teilnehmer zu einem Mittagessen mit Grillen im Freien eingeladen. \nDomenica 3 settembre giochiamo la gara Mirò Golf Trophy\, organizzata\ndalla Fam. Gallmetzer e la squadra del Mirò – Bolzano. \nSi giocheranno 18 buche stableford per 3 categorie con partenza simultanea su tutte le buche alle ore 10.00. A fine gara tutti i giocatori sono invitati ad un pranzo in Clubhouse con grigliata all’aperto. \nhttps://www.miro.bz/ \n2017-Miro-brutto-lordo\n2017-Miro-netto-1\n2017-Miro-netto-2\n2017-Miro-netto-3 \n[/vc_column_text][/vc_column][/vc_row][vc_row type=”in_container” full_screen_row_position=”middle” scene_position=”center” text_color=”dark” text_align=”left” overlay_strength=”0.3″][vc_column column_padding=”no-extra-padding” column_padding_position=”all” background_color_opacity=”1″ background_hover_color_opacity=”1″ column_shadow=”none” width=”1/1″ tablet_text_alignment=”default” phone_text_alignment=”default” column_border_width=”none” column_border_style=”solid”][/vc_column][/vc_row]
URL:https://golfclubpetersberg.it/en/event/miro-golf-trophy-2017/
LOCATION:Golfclub Petersberg\, Unterwinkl 5\, Petersberg\, 39050\, Italia
ATTACH;FMTTYPE=image/jpeg:https://golfclubpetersberg.it/wp-content/uploads/2017/07/Logo-Miro.jpg
END:VEVENT
BEGIN:VEVENT
DTSTART;VALUE=DATE:20170909
DTEND;VALUE=DATE:20170910
DTSTAMP:20260420T142159
CREATED:20170704T155133Z
LAST-MODIFIED:20170913T074809Z
UID:3027-1504915200-1505001599@golfclubpetersberg.it
SUMMARY:SÜTIROLER LANDESMEISTERSCHAFT
DESCRIPTION:  \nCHALLENGE PROVINCIALE ALTO ADIGE\n18 buche medal –  9 settembre 2017\n\nCONDIZIONI DI GARA \n\nLuogo: GOLF CLUB PETERSBERG \nData:  9 settembre 2017 \nRegole:  Si gioca con le regole ufficiali del R. & A. Rules e le regole locali del Golf Club Petersberg \nGiocatori ammessi:\nSono ammessi tutti i giocatori residenti nella provincia di Bolzano regolarmente tesserati presso una Federazione nazionale e tutti i giocatori soci di un Golf Club della Provincia di Bolzano e tesserati per lo stesso\n \nCategorie:\nLordo signori\, Lordo signore\, Lordo Junior\, Categoria Netto generale \nFormula di gioco: 18 buche medal \nPartenze:         In ordine di handicap\, signore e signori divisi \nCasi di parità:\nIn caso di parità si procede secondo le indicazioni della Federazione Italiana Golf \nTermine d‘iscrizione:\nentro venerdì\, 8 settembre ore 12.00 presso la segreteria del GC Petersberg \nMassimo partecipanti:\n120 (centoventi)\, in caso di esubero prevale l’exact handicap più basso \n\nPremi: nel seguente ordine\, non cumulabili \nCampione Provinciale maschile: 1°lordo: \nCampione Provinciale femminile: 1° lordo \nCampione Provinciale Junior: 1° lordo \nLordo: femminile e maschile 2° class. \nNetto: 1° e 2° 3° class.\nNetto: 1° over 65 \nPremiazione: Al termine della gara\n \nQuota di iscrizione: € 20\,00 Iscrizione gara\, € 60\,00 Green Fee \nComitato di gara:  Moreno Trisorio\, Hans-Peter Thaler \nIl comitato gara si riserva la facoltà di apportare delle modifiche in caso di assoluta necessità a suo \n  \nSüdtiroler-Meisterschaft-Netto \nCampionato-Provinciale-premiati \nSüdtiroler-Meisterschaft-Brutto \n  \n \n  \n  \n\n		\n		\n			\n				\n			\n			\n				\n			\n			\n				\n			\n			\n				\n			\n			\n				\n			\n			\n				\n			\n			\n				\n			\n			\n				\n			\n			\n				\n			\n			\n				\n			\n			\n				\n			\n			\n				\n			\n			\n				\n			\n			\n				\n			\n			\n				\n			\n			\n				\n			\n			\n				\n			\n			\n		\n\n 
URL:https://golfclubpetersberg.it/en/event/suetiroler-landesmeisterschaft/
END:VEVENT
BEGIN:VEVENT
DTSTART;TZID=Europe/Rome:20170910T080000
DTEND;TZID=Europe/Rome:20170910T170000
DTSTAMP:20260420T142159
CREATED:20170725T092709Z
LAST-MODIFIED:20170808T102011Z
UID:3020-1505030400-1505062800@golfclubpetersberg.it
SUMMARY:HICKORY GOLF CUP
DESCRIPTION:
URL:https://golfclubpetersberg.it/en/event/hickory-golf-cup/
LOCATION:Golfclub Petersberg\, Unterwinkl 5\, Petersberg\, 39050\, Italia
ORGANIZER;CN="Golfclub Petersberg":MAILTO:info@golfclubpetersberg.it
END:VEVENT
BEGIN:VEVENT
DTSTART;VALUE=DATE:20170914
DTEND;VALUE=DATE:20170915
DTSTAMP:20260420T142200
CREATED:20170725T095103Z
LAST-MODIFIED:20170915T161554Z
UID:3018-1505347200-1505433599@golfclubpetersberg.it
SUMMARY:LADIES CUP 2017
DESCRIPTION:[vc_row type=”in_container” full_screen_row_position=”middle” scene_position=”center” text_color=”dark” text_align=”left” overlay_strength=”0.3″][vc_column column_padding=”no-extra-padding” column_padding_position=”all” background_color_opacity=”1″ background_hover_color_opacity=”1″ column_shadow=”none” width=”1/1″ tablet_text_alignment=”default” phone_text_alignment=”default” column_border_width=”none” column_border_style=”solid”][vc_column_text]\nLADIESCUP\nDonnerstag – Giovedì:  14.09.2017  \n18 Loch – 18 buche – 4-ball-best-ball stableford\nJede Spielerin spielt mit 9/10 des Handicaps\nOgni giocatrice gioca con i 9/10 del proprio Handicap \n  \n\nLadies-Cup-brutto-lordo\nLadies-Cup-netto\n[/vc_column_text][/vc_column][/vc_row][vc_row type=”in_container” full_screen_row_position=”middle” scene_position=”center” text_color=”dark” text_align=”left” overlay_strength=”0.3″][vc_column column_padding=”no-extra-padding” column_padding_position=”all” background_color_opacity=”1″ background_hover_color_opacity=”1″ column_shadow=”none” width=”1/1″ tablet_text_alignment=”default” phone_text_alignment=”default” column_border_width=”none” column_border_style=”solid”][vc_gallery type=”image_grid” images=”7446\,7449\,7452\,7455\,7458\,7461\,7464\,7467\,7470″ layout=”3″ gallery_style=”1″ load_in_animation=”none”][/vc_column][/vc_row]
URL:https://golfclubpetersberg.it/en/event/ladies-cup-2017/
LOCATION:Golfclub Petersberg\, Unterwinkl 5\, Petersberg\, 39050\, Italia
ATTACH;FMTTYPE=image/jpeg:https://golfclubpetersberg.it/wp-content/uploads/2017/07/golfclub_petersberg_20120104_1660708699.jpg
ORGANIZER;CN="Golfclub Petersberg":MAILTO:info@golfclubpetersberg.it
END:VEVENT
BEGIN:VEVENT
DTSTART;VALUE=DATE:20170917
DTEND;VALUE=DATE:20170918
DTSTAMP:20260420T142200
CREATED:20170725T095617Z
LAST-MODIFIED:20170725T095617Z
UID:3015-1505606400-1505692799@golfclubpetersberg.it
SUMMARY:CLEVELAND - SRIXON GOLF TROPHY
DESCRIPTION:
URL:https://golfclubpetersberg.it/en/event/cleveland-srixon-golf-trophy/
LOCATION:Golfclub Petersberg\, Unterwinkl 5\, Petersberg\, 39050\, Italia
ORGANIZER;CN="Golfclub Petersberg":MAILTO:info@golfclubpetersberg.it
END:VEVENT
BEGIN:VEVENT
DTSTART;TZID=Europe/Rome:20170919T000000
DTEND;TZID=Europe/Rome:20170919T235959
DTSTAMP:20260420T142200
CREATED:20170913T083921Z
LAST-MODIFIED:20170913T083921Z
UID:7384-1505779200-1505865599@golfclubpetersberg.it
SUMMARY:Nussbaumer Golf Trophy 2017
DESCRIPTION:NUSSBAUMER GOLF TROPHY\nDienstag – Martedì\, 19.09.2017 \n  \nStableford – Kanonenstart um 14.00 Uhr und Preisverteilung mit Abendessen im Restaurant/Pizzeria Nussbaumer in Auer \nStableford – Partenza simultanea alle ore 14.00 e cena con premiazione presso il Ristorante/Pizzeria Nussbaumer a Ora
URL:https://golfclubpetersberg.it/en/event/nussbaumer-golf-trophy-2017/
ATTACH;FMTTYPE=image/jpeg:https://golfclubpetersberg.it/wp-content/uploads/2017/09/Nussbaumer-Logo-Large.jpg
END:VEVENT
BEGIN:VEVENT
DTSTART;VALUE=DATE:20170923
DTEND;VALUE=DATE:20170924
DTSTAMP:20260420T142200
CREATED:20170725T095927Z
LAST-MODIFIED:20170926T143505Z
UID:3013-1506124800-1506211199@golfclubpetersberg.it
SUMMARY:GANISCHGER GOLF TROPHY 2017
DESCRIPTION:[vc_row type=”in_container” full_screen_row_position=”middle” scene_position=”center” text_color=”dark” text_align=”left” overlay_strength=”0.3″][vc_column column_padding=”no-extra-padding” column_padding_position=”all” background_color_opacity=”1″ background_hover_color_opacity=”1″ column_shadow=”none” width=”1/1″ tablet_text_alignment=”default” phone_text_alignment=”default” column_border_width=”none” column_border_style=”solid”][vc_column_text]GANISCHGER TROPHY 2017 \nHotel Ganischgerhof – Baita Gardoné\nGanischgeralm – Platzl-Obereggen \nStableford mit gastronomischen Überraschungen auf dem Platz\nStableford con sorprese gastronomiche sul campo \n  \n \nGanischger-brutto\nGanischger-netto-1\nGanischger-netto-2\nGanischger-netto-3[/vc_column_text][/vc_column][/vc_row][vc_row type=”in_container” full_screen_row_position=”middle” scene_position=”center” text_color=”dark” text_align=”left” overlay_strength=”0.3″][vc_column column_padding=”no-extra-padding” column_padding_position=”all” background_color_opacity=”1″ background_hover_color_opacity=”1″ column_shadow=”none” width=”1/1″ tablet_text_alignment=”default” phone_text_alignment=”default” column_border_width=”none” column_border_style=”solid”][vc_gallery type=”image_grid” images=”7624\,7627\,7630\,7633\,7636\,7639\,7642\,7645\,7648\,7651\,7654\,7657\,7660\,7663\,7666\,7669\,7672\,7772\,7678\,7681\,7684\,7687\,7690\,7693\,7696\,7699\,7702\,7705\,7708\,7711\,7714\,7717\,7720\,7723\,7726\,7729\,7732\,7735\,7738\,7741\,7744\,7747\,7750″ layout=”3″ gallery_style=”1″ load_in_animation=”none”][/vc_column][/vc_row]
URL:https://golfclubpetersberg.it/en/event/ganischger-golf-trophy-2017/
LOCATION:Golfclub Petersberg\, Unterwinkl 5\, Petersberg\, 39050\, Italia
ATTACH;FMTTYPE=image/jpeg:https://golfclubpetersberg.it/wp-content/uploads/2017/07/Logo-Ganischger.jpg
ORGANIZER;CN="Golfclub Petersberg":MAILTO:info@golfclubpetersberg.it
END:VEVENT
BEGIN:VEVENT
DTSTART;VALUE=DATE:20170928
DTEND;VALUE=DATE:20170929
DTSTAMP:20260420T142200
CREATED:20170917T161726Z
LAST-MODIFIED:20170917T193511Z
UID:7564-1506556800-1506643199@golfclubpetersberg.it
SUMMARY:Trofeo Fiemme 2017
DESCRIPTION:Trofeo Fiemme 2017 \nDonnerstag – Giovedì\, 28-09-2017 \n  \nPartenza simultanea – Kanonenstart:  13.00 \nCena – Abendessen: \nStrudel di verdure con salsa al pomodoro e basilico \nRisotto alle erbe aromatiche con petto di pollo alla griglia \nKaiserschmarrn con mirtilli rossi \n  \nLagrein – Peter Zemmer \n 
URL:https://golfclubpetersberg.it/en/event/trofeo-fiemme-2017/
ATTACH;FMTTYPE=image/gif:https://golfclubpetersberg.it/wp-content/uploads/2017/09/fiemmec.gif
END:VEVENT
END:VCALENDAR