BEGIN:VCALENDAR
VERSION:2.0
PRODID:-//GOLFCLUB PETERSBERG  - Golf in South Tyrol - ECPv6.15.20//NONSGML v1.0//EN
CALSCALE:GREGORIAN
METHOD:PUBLISH
X-ORIGINAL-URL:https://golfclubpetersberg.it/en/
X-WR-CALDESC:Events for GOLFCLUB PETERSBERG  - Golf in South Tyrol
REFRESH-INTERVAL;VALUE=DURATION:PT1H
X-Robots-Tag:noindex
X-PUBLISHED-TTL:PT1H
BEGIN:VTIMEZONE
TZID:Europe/Rome
BEGIN:DAYLIGHT
TZOFFSETFROM:+0100
TZOFFSETTO:+0200
TZNAME:CEST
DTSTART:20170326T010000
END:DAYLIGHT
BEGIN:STANDARD
TZOFFSETFROM:+0200
TZOFFSETTO:+0100
TZNAME:CET
DTSTART:20171029T010000
END:STANDARD
BEGIN:DAYLIGHT
TZOFFSETFROM:+0100
TZOFFSETTO:+0200
TZNAME:CEST
DTSTART:20180325T010000
END:DAYLIGHT
BEGIN:STANDARD
TZOFFSETFROM:+0200
TZOFFSETTO:+0100
TZNAME:CET
DTSTART:20181028T010000
END:STANDARD
BEGIN:DAYLIGHT
TZOFFSETFROM:+0100
TZOFFSETTO:+0200
TZNAME:CEST
DTSTART:20190331T010000
END:DAYLIGHT
BEGIN:STANDARD
TZOFFSETFROM:+0200
TZOFFSETTO:+0100
TZNAME:CET
DTSTART:20191027T010000
END:STANDARD
END:VTIMEZONE
BEGIN:VEVENT
DTSTART;VALUE=DATE:20180506
DTEND;VALUE=DATE:20180507
DTSTAMP:20260420T011055
CREATED:20180311T155927Z
LAST-MODIFIED:20180507T181452Z
UID:8382-1525564800-1525651199@golfclubpetersberg.it
SUMMARY:STAR TOUR 2018 - The first
DESCRIPTION:  \n \n  \nStar-Tour-2018-1-brutto\nStar-Tour-2018-1-Netto-1\nStar-Tour-2018-1-Netto-2\nStar-Tour-2018-1-Netto-3 \n \n 
URL:https://golfclubpetersberg.it/en/event/star-tour-2018-the-first/
LOCATION:Golfclub Petersberg\, Unterwinkl 5\, Petersberg\, 39050\, Italia
ATTACH;FMTTYPE=image/jpeg:https://golfclubpetersberg.it/wp-content/uploads/2018/03/Star-Tour-2018-1.jpg
END:VEVENT
BEGIN:VEVENT
DTSTART;VALUE=DATE:20180512
DTEND;VALUE=DATE:20180513
DTSTAMP:20260420T011055
CREATED:20180311T155359Z
LAST-MODIFIED:20180513T110348Z
UID:8374-1526083200-1526169599@golfclubpetersberg.it
SUMMARY:REISEDIENST - AGENZIA VIAGGI LUIS PICHLER GOLF TROPHY
DESCRIPTION:  \n \n  \n2018-Luis-Pichler-brutto-lordo \n2018-Luis-Pichler-netto-1 \n2018-Luis-Pichler-netto-2 \n2018-Luis-Pichler-netto-3 \n 
URL:https://golfclubpetersberg.it/en/event/reisedienst-agenzia-viaggi-luis-pichler-golf-trophy/
LOCATION:Golfclub Petersberg\, Unterwinkl 5\, Petersberg\, 39050\, Italia
ATTACH;FMTTYPE=image/jpeg:https://golfclubpetersberg.it/wp-content/uploads/2018/03/Reisedienst-Luis-Pichler-Agenzia-Viaggi-2011.jpg
END:VEVENT
BEGIN:VEVENT
DTSTART;VALUE=DATE:20180520
DTEND;VALUE=DATE:20180521
DTSTAMP:20260420T011055
CREATED:20180311T154943Z
LAST-MODIFIED:20180528T103732Z
UID:8365-1526774400-1526860799@golfclubpetersberg.it
SUMMARY:STAR TOUR - The second
DESCRIPTION:Am Sonntag\, 20. Mai spielen wir das zweite Turnier der Star Tour 2018 mit einem 4-ball-best-ball und Kanonenstart um 11.00 Uhr. \nDomenica\, 20 maggio chiochiamo la seconda tappa della Star Tour 2018 con una 4-palle-la-migliore e partenza simultanea alle ore 11.00 \n  \n \n2018-Star-Tour-2-lordo \n2018-Star-Tour-2-netto1 \n2018-Star-Tour-2-netto2 \n 
URL:https://golfclubpetersberg.it/en/event/star-tour-the-second/
ATTACH;FMTTYPE=image/jpeg:https://golfclubpetersberg.it/wp-content/uploads/2018/03/Star-Tour-2018-1.jpg
ORGANIZER;CN="Golfclub Petersberg":MAILTO:info@golfclubpetersberg.it
END:VEVENT
BEGIN:VEVENT
DTSTART;VALUE=DATE:20180526
DTEND;VALUE=DATE:20180527
DTSTAMP:20260420T011055
CREATED:20180311T163657Z
LAST-MODIFIED:20180528T095607Z
UID:8404-1527292800-1527379199@golfclubpetersberg.it
SUMMARY:TEAM CHALLENGE 2018
DESCRIPTION:Die Team Challenge wird zusammen mit dem Südtiroler Landesdelegierten organisiert. Das Reglement wird den teilnehmenden Clubs\nvom Landesdelegierten zugesandt.\nQuesta gara viene organizzata in collaborazione con il delegato provinciale. Il regolamento verrà inviato ai circoli che partecipano\ndirettamente dal delegato provinciale. \n  \n \n2018-Team-Challenge-brutto \n2018-Team-Challenge-netto
URL:https://golfclubpetersberg.it/en/event/team-challenge-2018/
LOCATION:Golfclub Petersberg\, Unterwinkl 5\, Petersberg\, 39050\, Italia
ATTACH;FMTTYPE=image/jpeg:https://golfclubpetersberg.it/wp-content/uploads/2018/03/Team-Challenge-logo.jpg
END:VEVENT
BEGIN:VEVENT
DTSTART;VALUE=DATE:20180527
DTEND;VALUE=DATE:20180528
DTSTAMP:20260420T011055
CREATED:20180311T161421Z
LAST-MODIFIED:20180528T101331Z
UID:8392-1527379200-1527465599@golfclubpetersberg.it
SUMMARY:LIONS GOLF TROPHY 2018
DESCRIPTION:Der Lions Club Bozen Laurin organisiert in Zusammenarbeit mit einigen Sponsoren jährlich dieses Turnier.\nDie Sponsoren haben wiederum sehr schöne Preise zur Verfügung gestellt und nach dem Turnier sind alle Teilnehmer zu einem\nschönen Abendessen eingeladen. Nach der Preisverteilung organisiert der Lions Club eine Tombola. \nDie Einnahmen aus dem Turnier und der Tombola werden für einen wohltätigen Zweck zur Verfügung gestellt. \n  \nIl Lions Club Bolzano Laurin organizza in collaborazione con alcuni sponsor annualmente questa bella gara.\nGli sponsor hanno messo a disposizione dei bellissimi premi e dopo la gara tutti i partecipanti sono invitati ad una ella cena.\nDurante la premiazione il Lions Club organizza una tombola. \nI ricavi della gara e della tombola verranno dati in benficienza. \n \n2018-Lions-lordo \n2018-Lions-netto-1 \n2018-Lions-netto-2 \n2018-Lions-netto-3 \n  \n \n \nACHTUNG – ATTENZIONE: \nAufgrund des Radrennens “Marcialonga Cycling” werden am frühen Morgen einige Straßen für 40 – 60 Minuten gesperrt sein. \nA causa della gara ciclistica “Marcialonga Cycling” la mattina presto alcune strade verranno chiuse al traffico per ca. 40 – 60 Minuti: \n\nGARA CICLISTICA – RADRENNEN:  MARCIALONGA CYCLING \nTABELLA DI MARCIA – GEPLANTE DURCHFAHRTSZEITEN  \nPONTE ALDINO                            8:33   ALDEINER BRÜCKE \nALDINO                                           8:45   ALDEIN \nMONTE SAN PIETRO                  8:55   PETERSBERG \nNOVA PONENTE                          9:10   DEUTSCHNOFEN \nBIVIO BOLZANO – RAUTH       9:18    KREUZUNG BOZEN – RAUTH \n  \nLa strada da Ponta di Aldino fino a Petersberg sarà riaperta ca. alle 9.15 \nDie Straße von de Aldeiner Brücke bis Petersberg wird um ca. 9.15 wieder geöffnet werden. \n  \nLa strada dalla Val D’Ega per Nova Ponente e Petersberg sarà riaperta ca. alle 10:10. \nDie Straße vom Eggental nach Deutschnofen und Petersberg wird um ca. 10.10 wieder geöffnet. \nInfos zum Radrennen – Informazioni sulla gara ciclistica: \nhttps://www.marcialonga.it/marcialonga_cycling \n  \n  \n 
URL:https://golfclubpetersberg.it/en/event/lions-golf-trophy-2018/
ATTACH;FMTTYPE=image/jpeg:https://golfclubpetersberg.it/wp-content/uploads/2018/03/Lions-Golf-Trophy.jpg
END:VEVENT
END:VCALENDAR