BEGIN:VCALENDAR
VERSION:2.0
PRODID:-//GOLFCLUB PETERSBERG  - Golf in South Tyrol - ECPv6.15.20//NONSGML v1.0//EN
CALSCALE:GREGORIAN
METHOD:PUBLISH
X-WR-CALNAME:GOLFCLUB PETERSBERG  - Golf in South Tyrol
X-ORIGINAL-URL:https://golfclubpetersberg.it/en/
X-WR-CALDESC:Events for GOLFCLUB PETERSBERG  - Golf in South Tyrol
REFRESH-INTERVAL;VALUE=DURATION:PT1H
X-Robots-Tag:noindex
X-PUBLISHED-TTL:PT1H
BEGIN:VTIMEZONE
TZID:Europe/Rome
BEGIN:DAYLIGHT
TZOFFSETFROM:+0100
TZOFFSETTO:+0200
TZNAME:CEST
DTSTART:20170326T010000
END:DAYLIGHT
BEGIN:STANDARD
TZOFFSETFROM:+0200
TZOFFSETTO:+0100
TZNAME:CET
DTSTART:20171029T010000
END:STANDARD
BEGIN:DAYLIGHT
TZOFFSETFROM:+0100
TZOFFSETTO:+0200
TZNAME:CEST
DTSTART:20180325T010000
END:DAYLIGHT
BEGIN:STANDARD
TZOFFSETFROM:+0200
TZOFFSETTO:+0100
TZNAME:CET
DTSTART:20181028T010000
END:STANDARD
BEGIN:DAYLIGHT
TZOFFSETFROM:+0100
TZOFFSETTO:+0200
TZNAME:CEST
DTSTART:20190331T010000
END:DAYLIGHT
BEGIN:STANDARD
TZOFFSETFROM:+0200
TZOFFSETTO:+0100
TZNAME:CET
DTSTART:20191027T010000
END:STANDARD
END:VTIMEZONE
BEGIN:VEVENT
DTSTART;VALUE=DATE:20180705
DTEND;VALUE=DATE:20180706
DTSTAMP:20260419T213405
CREATED:20180311T170810Z
LAST-MODIFIED:20180706T100757Z
UID:8481-1530748800-1530835199@golfclubpetersberg.it
SUMMARY:VSS - RAIFFEISEN SENIOR CUP 2018
DESCRIPTION:Die Seniorenturniere des VSS finden an folgenden Tagen statt:\nLe gare VSS – Senior Golf Cup si giocano nei seguenti giorni: \nGiovedì – Donnerstag\, 17.05.2018                     GC Pustertal / Val Pusteria \nGiovedì – Donnerstag\, 14.06.2018                     GC Passeier / Passiria \nGiovedì – Donnerstag\, 28.06.2018                   GC St. Vigil Seis \nGiovedì – Donnerstag\, 05. 07.2018                    GC Petersberg \nGiovedì – Donnerstag\, 19. 07.2018                    GC Eppan / Appiano \nGiovedì – Donnerstag\, 30.08.2018                    GC Lana \nGiovedì – Donnerstag\, 13.09.2018                    GC Carezza  –  Finale 2018 \nProgramma: \nVSS-Raiffeisen_Senioren-Golfcup_2018 – Download – PDF \nPetersberg – Ergebnisse Brutto – Risultati lordo \nPetersberg – Risultati / Risultati netto \n \n  \n  \n  \n  \n  \n  \n  \n  \n  \n  \n  \n  \n  \n  \n  \n  \n  \n  \n  \n  \n  \n  \n  \n \n  \n  \n  \n  \n  \n  \n 
URL:https://golfclubpetersberg.it/en/event/vss-raiffeisen-senior-cup-2018/
ATTACH;FMTTYPE=image/jpeg:https://golfclubpetersberg.it/wp-content/uploads/2018/03/VSS-senior.jpg
END:VEVENT
BEGIN:VEVENT
DTSTART;VALUE=DATE:20180706
DTEND;VALUE=DATE:20180707
DTSTAMP:20260419T213405
CREATED:20180521T103309Z
LAST-MODIFIED:20180521T103622Z
UID:8937-1530835200-1530921599@golfclubpetersberg.it
SUMMARY:CAMPIONATO NAZIONALE A SQUADRE PF GOLF
DESCRIPTION:Am Freitag\, 6. Juli und am Samsag 7. Juli organisiert die Vereinigung der Finanzberater\nihr Golfturnier. \nReglement: \nhttps://www.pfgolf.it/le-gare \n  \n  \n  \n  \n  \nVenerdì 6 luglio e sabato 7 luglio  giochiamo la gara \ndell’ ASSOCIAZIONE ITALIANA CONSULENTI FINANZIARI GOLFISTI \nPFGOLF \nRegolamento a parte sul sito di PFGOLF: \nhttps://www.pfgolf.it/le-gare \n  \n  \n 
URL:https://golfclubpetersberg.it/en/event/campionato-nazionale-a-squadre-pf-golf/
ATTACH;FMTTYPE=image/jpeg:https://golfclubpetersberg.it/wp-content/uploads/2018/05/PF-Golf-Logo-2.jpg
END:VEVENT
BEGIN:VEVENT
DTSTART;VALUE=DATE:20180707
DTEND;VALUE=DATE:20180708
DTSTAMP:20260419T213405
CREATED:20180311T171107Z
LAST-MODIFIED:20180909T095636Z
UID:8491-1530921600-1531007999@golfclubpetersberg.it
SUMMARY:DOLOMITI GOLF CUP
DESCRIPTION:Dolomiti-Golf-Cup-netto-1 \nDolomiti-Golf-Cup-netto-2 \nDolomiti-Golf-Cup-netto-3 \nDolomiti-golf-cup-lordo
URL:https://golfclubpetersberg.it/en/event/dolomiti-golf-cup-2/
LOCATION:Golfclub Petersberg\, Unterwinkl 5\, Petersberg\, 39050\, Italia
ATTACH;FMTTYPE=image/jpeg:https://golfclubpetersberg.it/wp-content/uploads/2018/03/Dolomiti-Golf-Cup-Logo.jpg
END:VEVENT
BEGIN:VEVENT
DTSTART;VALUE=DATE:20180712
DTEND;VALUE=DATE:20180713
DTSTAMP:20260419T213405
CREATED:20180311T165311Z
LAST-MODIFIED:20180712T185958Z
UID:8456-1531353600-1531439999@golfclubpetersberg.it
SUMMARY:AGIS GOLF TROPHY
DESCRIPTION:Informazioni AGIS:   https://www.agisgolf.it/ \n  \n \n  \n  \n  \n  \n  \n  \n  \n  \n  \n  \n  \n  \n  \n  \n  \n  \n  \n  \n  \n  \nAGIS-LORDO \nAGIS-NETTO-1 \nAGIS-NETTO-2 \nAGIS-NETTO-3 \nAGIS-NETTO-GENERALE \n  \n  \n  \n 
URL:https://golfclubpetersberg.it/en/event/agis-golf-trophy/
ATTACH;FMTTYPE=image/jpeg:https://golfclubpetersberg.it/wp-content/uploads/2018/03/AGIS.jpg
END:VEVENT
BEGIN:VEVENT
DTSTART;VALUE=DATE:20180714
DTEND;VALUE=DATE:20180715
DTSTAMP:20260419T213405
CREATED:20180311T165149Z
LAST-MODIFIED:20180716T113744Z
UID:8447-1531526400-1531612799@golfclubpetersberg.it
SUMMARY:TOPCONTROL GOLF TROPHY 2018
DESCRIPTION:  \n  \n  \n  \n  \n  \n  \n  \n  \n  \n  \n  \n  \n  \n  \n  \n  \n  \n  \n  \n  \n2018-Top-Control-brutto \n2018-Top-Control-netto-1 \n2018-Top-Control-netto-2 \n2018-Top-Control-netto-3 \n \n  \n  \n  \n  \n  \n  \n  \n  \n  \n  \n  \n  \n  \n  \n  \n  \n  \n  \n  \n \n  \n  \n  \n  \n  \n  \n\n		\n		\n			\n				\n			\n			\n				\n			\n			\n				\n			\n			\n				\n			\n			\n				\n			\n			\n				\n			\n			\n				\n			\n			\n				\n			\n			\n				\n			\n			\n				\n			\n			\n				\n			\n			\n				\n			\n			\n				\n			\n			\n				\n			\n			\n				\n			\n			\n				\n			\n			\n				\n			\n			\n				\n			\n			\n				\n			\n			\n				\n			\n			\n				\n			\n			\n				\n			\n			\n				\n			\n			\n				\n			\n			\n				\n			\n			\n				\n			\n			\n				\n			\n			\n				\n			\n			\n				\n			\n			\n				\n			\n			\n				\n			\n			\n				\n			\n			\n				\n			\n			\n				\n			\n			\n				\n			\n			\n				\n			\n			\n				\n			\n			\n				\n			\n			\n				\n			\n			\n				\n			\n			\n				\n			\n			\n				\n			\n			\n				\n			\n			\n				\n			\n			\n				\n			\n			\n				\n			\n			\n				\n			\n			\n				\n			\n			\n				\n			\n			\n				\n			\n			\n				\n			\n			\n				\n			\n			\n				\n			\n			\n		\n\n  \n  \n 
URL:https://golfclubpetersberg.it/en/event/topcontrol-golf-trophy-2018/
LOCATION:Golfclub Petersberg\, Unterwinkl 5\, Petersberg\, 39050\, Italia
ATTACH;FMTTYPE=image/jpeg:https://golfclubpetersberg.it/wp-content/uploads/2018/03/Top-Control-Logo.jpg
END:VEVENT
BEGIN:VEVENT
DTSTART;VALUE=DATE:20180715
DTEND;VALUE=DATE:20180716
DTSTAMP:20260419T213405
CREATED:20180713T070047Z
LAST-MODIFIED:20180718T083212Z
UID:9765-1531612800-1531699199@golfclubpetersberg.it
SUMMARY:MEISTER & GESELLE - MAESTRO & APPRENDISTA
DESCRIPTION:Meister-Geselle-Maestro-Apprendista-brutto-lordo \nMeister-Geselle-Maestro-Apprendista-netto \n  \nMEISTER  &  GESELLE    *    MAESTRO & APPRENDISTA \nAm Sonntag spielen wir das Turnier Meister & Geselle. Dabei spielen ein Golfspieler und ein Nicht-Golfspieler in einer Mannschaft. Der Golfspieler spielt alle Schläge außerhalb des Greens und der Nicht-Golfer spielt alle Schläge auf dem Green. \nDomenica giochiamo la gara Maestro & Apprendista. Con questa gara un golfista ed un non-golfista formano una squadra. Il golfista gioca tutti i colpi fuori dal green ed il non-golfista gioca tutti i colpi sul green. \n 
URL:https://golfclubpetersberg.it/en/event/meister-geselle-maestro-apprendista-2/
END:VEVENT
BEGIN:VEVENT
DTSTART;VALUE=DATE:20180721
DTEND;VALUE=DATE:20180722
DTSTAMP:20260419T213405
CREATED:20180311T165826Z
LAST-MODIFIED:20180722T161332Z
UID:8465-1532131200-1532217599@golfclubpetersberg.it
SUMMARY:ACI GOLF 2018
DESCRIPTION:  \n \n  \n  \n  \n  \n  \n  \n  \n  \n  \n  \n  \n  \n  \n  \n  \n  \n  \n  \n  \n  \n  \n  \n \n  \n  \n  \n  \n  \n  \n  \n  \n  \n  \n  \n  \n  \n  \n  \n  \n  \n  \n  \n  \n2018-ACI-lordo-brutto-1-cat \n2018-ACI-netto-1 \n2018-ACI-netto-2 \n2018-ACI-netto-3 \n2018-ACI-netto-generale \nINFO:   ACI GOLF 2018 \n  \n\n		\n		\n			\n				\n			\n			\n				\n			\n			\n				\n			\n			\n				\n			\n			\n				\n			\n			\n				\n			\n			\n				\n			\n			\n				\n			\n			\n				\n			\n			\n				\n			\n			\n				\n			\n			\n				\n			\n			\n				\n			\n			\n				\n			\n			\n				\n			\n			\n				\n			\n			\n				\n			\n			\n				\n			\n			\n				\n			\n			\n				\n			\n			\n				\n			\n			\n				\n			\n			\n		\n\n  \n  \n  \n  \n  \n  \n 
URL:https://golfclubpetersberg.it/en/event/aci-golf-2018/
LOCATION:Golfclub Petersberg\, Unterwinkl 5\, Petersberg\, 39050\, Italia
ATTACH;FMTTYPE=image/jpeg:https://golfclubpetersberg.it/wp-content/uploads/2018/03/Aci-Golf-Logo.jpg
END:VEVENT
BEGIN:VEVENT
DTSTART;VALUE=DATE:20180722
DTEND;VALUE=DATE:20180723
DTSTAMP:20260419T213405
CREATED:20180313T220040Z
LAST-MODIFIED:20180313T220056Z
UID:8580-1532217600-1532303999@golfclubpetersberg.it
SUMMARY:TROFEO IPERBARICO - TURNIER DES HYPERBARISCHEN ZENTRUMS
DESCRIPTION:
URL:https://golfclubpetersberg.it/en/event/trofeo-iperbarico-turnier-des-hyperbarischen-zentrums/
ATTACH;FMTTYPE=image/jpeg:https://golfclubpetersberg.it/wp-content/uploads/2018/03/Iperbarico-Logo.jpg
END:VEVENT
BEGIN:VEVENT
DTSTART;VALUE=DATE:20180727
DTEND;VALUE=DATE:20180728
DTSTAMP:20260419T213405
CREATED:20180313T214251Z
LAST-MODIFIED:20180313T214251Z
UID:8556-1532649600-1532735999@golfclubpetersberg.it
SUMMARY:HOTEL CRISTAL TROPHY - THE CHEFS ON THE GREEN
DESCRIPTION:
URL:https://golfclubpetersberg.it/en/event/hotel-cristal-trophy-the-chefs-on-the-green/
ATTACH;FMTTYPE=image/jpeg:https://golfclubpetersberg.it/wp-content/uploads/2018/03/CRISTAL-logo-weiß.jpg
END:VEVENT
BEGIN:VEVENT
DTSTART;VALUE=DATE:20180728
DTEND;VALUE=DATE:20180729
DTSTAMP:20260419T213405
CREATED:20180311T222941Z
LAST-MODIFIED:20180729T093940Z
UID:8518-1532736000-1532822399@golfclubpetersberg.it
SUMMARY:MIRABELL GOLF TROPHY
DESCRIPTION:Mirabell Cup 2018 Golf Petersberg dt_ita \n2018-Mirabell-netto-3 \n2018-Mirabell-netto-2 \n2018-Mirabell-netto-1 \n2018-Mirabell-brutto \n \n  \n  \n  \n  \n  \n  \n  \n  \n  \n  \n  \n  \n  \n  \n  \n  \n  \n  \n  \n  \n \n  \n  \n  \n  \n  \n  \n  \n  \n  \n  \n  \n  \n  \n  \n  \n  \n  \n  \n 
URL:https://golfclubpetersberg.it/en/event/mirabell-golf-trophy/
ATTACH;FMTTYPE=image/jpeg:https://golfclubpetersberg.it/wp-content/uploads/2018/03/Mirabell-logo.jpg
END:VEVENT
END:VCALENDAR