BEGIN:VCALENDAR
VERSION:2.0
PRODID:-//GOLFCLUB PETERSBERG  - Golf in South Tyrol - ECPv6.15.20//NONSGML v1.0//EN
CALSCALE:GREGORIAN
METHOD:PUBLISH
X-WR-CALNAME:GOLFCLUB PETERSBERG  - Golf in South Tyrol
X-ORIGINAL-URL:https://golfclubpetersberg.it/en/
X-WR-CALDESC:Events for GOLFCLUB PETERSBERG  - Golf in South Tyrol
REFRESH-INTERVAL;VALUE=DURATION:PT1H
X-Robots-Tag:noindex
X-PUBLISHED-TTL:PT1H
BEGIN:VTIMEZONE
TZID:Europe/Rome
BEGIN:DAYLIGHT
TZOFFSETFROM:+0100
TZOFFSETTO:+0200
TZNAME:CEST
DTSTART:20170326T010000
END:DAYLIGHT
BEGIN:STANDARD
TZOFFSETFROM:+0200
TZOFFSETTO:+0100
TZNAME:CET
DTSTART:20171029T010000
END:STANDARD
BEGIN:DAYLIGHT
TZOFFSETFROM:+0100
TZOFFSETTO:+0200
TZNAME:CEST
DTSTART:20180325T010000
END:DAYLIGHT
BEGIN:STANDARD
TZOFFSETFROM:+0200
TZOFFSETTO:+0100
TZNAME:CET
DTSTART:20181028T010000
END:STANDARD
BEGIN:DAYLIGHT
TZOFFSETFROM:+0100
TZOFFSETTO:+0200
TZNAME:CEST
DTSTART:20190331T010000
END:DAYLIGHT
BEGIN:STANDARD
TZOFFSETFROM:+0200
TZOFFSETTO:+0100
TZNAME:CET
DTSTART:20191027T010000
END:STANDARD
END:VTIMEZONE
BEGIN:VEVENT
DTSTART;TZID=Europe/Rome:20180802T104000
DTEND;TZID=Europe/Rome:20180802T133000
DTSTAMP:20260419T194338
CREATED:20180801T084113Z
LAST-MODIFIED:20180804T103558Z
UID:10202-1533206400-1533216600@golfclubpetersberg.it
SUMMARY:LADIES CUP 2018
DESCRIPTION:Ladies-Cup-Petersberg-brutto \nLadies-Cup-Petersberg-netto \n 
URL:https://golfclubpetersberg.it/en/event/ladies-cup-2018-2/
ATTACH;FMTTYPE=image/jpeg:https://golfclubpetersberg.it/wp-content/uploads/2018/03/Logo-Ball-2.jpg
END:VEVENT
BEGIN:VEVENT
DTSTART;VALUE=DATE:20180804
DTEND;VALUE=DATE:20180805
DTSTAMP:20260419T194338
CREATED:20180310T150326Z
LAST-MODIFIED:20180310T150342Z
UID:8328-1533340800-1533427199@golfclubpetersberg.it
SUMMARY:3. ALPERIA GOLF TROPHY
DESCRIPTION:
URL:https://golfclubpetersberg.it/en/event/3-alperia-golf-trophy-2/
LOCATION:Golfclub Petersberg\, Unterwinkl 5\, Petersberg\, 39050\, Italia
ATTACH;FMTTYPE=image/jpeg:https://golfclubpetersberg.it/wp-content/uploads/2017/07/Logo-Alperia.jpg
END:VEVENT
BEGIN:VEVENT
DTSTART;VALUE=DATE:20180812
DTEND;VALUE=DATE:20180813
DTSTAMP:20260419T194338
CREATED:20180311T222757Z
LAST-MODIFIED:20180812T161949Z
UID:8509-1534032000-1534118399@golfclubpetersberg.it
SUMMARY:PODIO SPORT GOLF TROPHY
DESCRIPTION:Podio-sport-lordo \nPodio-sport-netto-1 \nPodio-sport-netto-2 \nPodio-sport-netto-3 \n \n  \n  \n  \n  \n  \n 
URL:https://golfclubpetersberg.it/en/event/podio-sport-golf-trophy/
LOCATION:Golfclub Petersberg\, Unterwinkl 5\, Petersberg\, 39050\, Italia
ATTACH;FMTTYPE=image/jpeg:https://golfclubpetersberg.it/wp-content/uploads/2018/03/Podio-Sport-Logo.jpg
END:VEVENT
BEGIN:VEVENT
DTSTART;VALUE=DATE:20180819
DTEND;VALUE=DATE:20180820
DTSTAMP:20260419T194338
CREATED:20180315T160238Z
LAST-MODIFIED:20180821T094645Z
UID:8596-1534636800-1534723199@golfclubpetersberg.it
SUMMARY:PRESIDENT'S CUP 2018
DESCRIPTION:  \n  \n  \n  \n  \n  \n  \n  \n  \n  \n  \n  \n  \n  \n  \n  \n  \n  \n  \n  \n  \nPresident-Cup-lordo-1 \nPresident-Cup-netto-1 \nPresident-Cup-netto-2 \nPresident-Cup-netto-3 \n\n		\n		\n			\n				\n			\n			\n				\n			\n			\n				\n			\n			\n				\n			\n			\n				\n			\n			\n				\n			\n			\n				\n			\n			\n				\n			\n			\n				\n			\n			\n				\n			\n			\n				\n			\n			\n				\n			\n			\n				\n			\n			\n				\n			\n			\n				\n			\n			\n				\n			\n			\n				\n			\n			\n				\n			\n			\n				\n			\n			\n				\n			\n			\n				\n			\n			\n				\n			\n			\n				\n			\n			\n				\n			\n			\n				\n			\n			\n				\n			\n			\n				\n			\n			\n				\n			\n			\n				\n			\n			\n		\n\n  \n  \n  \n  \n 
URL:https://golfclubpetersberg.it/en/event/presidents-cup-2018/
ATTACH;FMTTYPE=image/jpeg:https://golfclubpetersberg.it/wp-content/uploads/2018/03/Logo-Ball-2.jpg
END:VEVENT
BEGIN:VEVENT
DTSTART;VALUE=DATE:20180826
DTEND;VALUE=DATE:20180827
DTSTAMP:20260419T194338
CREATED:20180315T155640Z
LAST-MODIFIED:20180827T071346Z
UID:8589-1535241600-1535327999@golfclubpetersberg.it
SUMMARY:25° TROFEO FASOLI
DESCRIPTION:2018-Fasoli-Premiati \n2018-Fasoli-lordo \n2018-Fasoli-netto-1 \n2018-Fasoli-netto-2 \n2018-Fasoli-netto-3 \n \n  \n  \n  \n  \n  \n  \n  \n  \n  \n  \n  \n  \n  \n  \n  \n  \n  \n  \n  \n  \n  \n  \n  \n  \n  \n\n		\n		\n			\n				\n			\n			\n				\n			\n			\n				\n			\n			\n				\n			\n			\n				\n			\n			\n				\n			\n			\n				\n			\n			\n				\n			\n			\n				\n			\n			\n				\n			\n			\n				\n			\n			\n				\n			\n			\n				\n			\n			\n				\n			\n			\n				\n			\n			\n				\n			\n			\n				\n			\n			\n				\n			\n			\n				\n			\n			\n				\n			\n			\n				\n			\n			\n				\n			\n			\n				\n			\n			\n				\n			\n		\n\n  \n  \n 
URL:https://golfclubpetersberg.it/en/event/25-trofeo-fasoli/
ATTACH;FMTTYPE=image/jpeg:https://golfclubpetersberg.it/wp-content/uploads/2018/03/Fasoli-logo-new.jpg
END:VEVENT
END:VCALENDAR