BEGIN:VCALENDAR
VERSION:2.0
PRODID:-//GOLFCLUB PETERSBERG  - Golf in South Tyrol - ECPv6.15.20//NONSGML v1.0//EN
CALSCALE:GREGORIAN
METHOD:PUBLISH
X-ORIGINAL-URL:https://golfclubpetersberg.it/en/
X-WR-CALDESC:Events for GOLFCLUB PETERSBERG  - Golf in South Tyrol
REFRESH-INTERVAL;VALUE=DURATION:PT1H
X-Robots-Tag:noindex
X-PUBLISHED-TTL:PT1H
BEGIN:VTIMEZONE
TZID:Europe/Rome
BEGIN:DAYLIGHT
TZOFFSETFROM:+0100
TZOFFSETTO:+0200
TZNAME:CEST
DTSTART:20170326T010000
END:DAYLIGHT
BEGIN:STANDARD
TZOFFSETFROM:+0200
TZOFFSETTO:+0100
TZNAME:CET
DTSTART:20171029T010000
END:STANDARD
BEGIN:DAYLIGHT
TZOFFSETFROM:+0100
TZOFFSETTO:+0200
TZNAME:CEST
DTSTART:20180325T010000
END:DAYLIGHT
BEGIN:STANDARD
TZOFFSETFROM:+0200
TZOFFSETTO:+0100
TZNAME:CET
DTSTART:20181028T010000
END:STANDARD
BEGIN:DAYLIGHT
TZOFFSETFROM:+0100
TZOFFSETTO:+0200
TZNAME:CEST
DTSTART:20190331T010000
END:DAYLIGHT
BEGIN:STANDARD
TZOFFSETFROM:+0200
TZOFFSETTO:+0100
TZNAME:CET
DTSTART:20191027T010000
END:STANDARD
END:VTIMEZONE
BEGIN:VEVENT
DTSTART;VALUE=DATE:20180904
DTEND;VALUE=DATE:20180905
DTSTAMP:20260419T180012
CREATED:20180812T071449Z
LAST-MODIFIED:20180906T081529Z
UID:10290-1536019200-1536105599@golfclubpetersberg.it
SUMMARY:NUSSBAUMER GOLF TROPHY
DESCRIPTION:Nussbaumer-lordo \nNussbaumer-netto-1 \nNussbaumer-netto-2 \nNussbaumer-netto-3 \n  \n \n  \n  \n  \n  \n \n  \n  \n 
URL:https://golfclubpetersberg.it/en/event/nussbaumer-golf-trophy-3/
ATTACH;FMTTYPE=image/jpeg:https://golfclubpetersberg.it/wp-content/uploads/2018/08/S22C-6e18081209400_0001.jpg
END:VEVENT
BEGIN:VEVENT
DTSTART;VALUE=DATE:20180909
DTEND;VALUE=DATE:20180910
DTSTAMP:20260419T180012
CREATED:20180321T120220Z
LAST-MODIFIED:20180909T192913Z
UID:8613-1536451200-1536537599@golfclubpetersberg.it
SUMMARY:TITLEIST - FOOT JOY GOLF TROPHY
DESCRIPTION:2018-Titleist-Foot-Joy-lordo \n2018-Titleist-Foot-Joy-netto-1 \n2018-Titleist-Foot-Joy-netto-2 \n2018-Titleist-Foot-Joy-netto-3 \n \n 
URL:https://golfclubpetersberg.it/en/event/titleist-foot-joy-golf-trophy-2/
ATTACH;FMTTYPE=image/jpeg:https://golfclubpetersberg.it/wp-content/uploads/2018/03/titleist.jpg
END:VEVENT
BEGIN:VEVENT
DTSTART;VALUE=DATE:20180922
DTEND;VALUE=DATE:20180923
DTSTAMP:20260419T180012
CREATED:20180313T215122Z
LAST-MODIFIED:20180923T075038Z
UID:8567-1537574400-1537660799@golfclubpetersberg.it
SUMMARY:GANISCHGER GOURMET CUP
DESCRIPTION:Ganischger-lordo \nGanischger-netto-1 \nGanischger-netto-2 \nGanischger-netto-3 \n  \n 
URL:https://golfclubpetersberg.it/en/event/ganischger-gourmet-cup/
ATTACH;FMTTYPE=image/jpeg:https://golfclubpetersberg.it/wp-content/uploads/2018/03/Ganischger-Golf-Cup.jpg
END:VEVENT
BEGIN:VEVENT
DTSTART;VALUE=DATE:20180929
DTEND;VALUE=DATE:20180930
DTSTAMP:20260419T180012
CREATED:20180311T225526Z
LAST-MODIFIED:20180929T152516Z
UID:8541-1538179200-1538265599@golfclubpetersberg.it
SUMMARY:CLUBMEISTERSCHAFT - CAMPIONATO SOCIALE
DESCRIPTION: 
URL:https://golfclubpetersberg.it/en/event/clubmeisterschaft-campionato-sociale-4/
ATTACH;FMTTYPE=image/jpeg:https://golfclubpetersberg.it/wp-content/uploads/2018/03/Logo-Ball-2.jpg
END:VEVENT
BEGIN:VEVENT
DTSTART;VALUE=DATE:20180930
DTEND;VALUE=DATE:20181001
DTSTAMP:20260419T180012
CREATED:20180311T225635Z
LAST-MODIFIED:20181001T094127Z
UID:8547-1538265600-1538351999@golfclubpetersberg.it
SUMMARY:CLUBMEISTERSCHAFT - CAMPIONATO SOCIALE
DESCRIPTION:Lordo – Brutto – cat. 1 \nLordo – Brutto – cat. 2 \nNetto-1 \nNetto-2 \nNetto-3
URL:https://golfclubpetersberg.it/en/event/clubmeisterschaft-campionato-sociale-5/
ATTACH;FMTTYPE=image/jpeg:https://golfclubpetersberg.it/wp-content/uploads/2018/03/Logo-Ball-2.jpg
END:VEVENT
END:VCALENDAR