BEGIN:VCALENDAR
VERSION:2.0
PRODID:-//GOLFCLUB PETERSBERG  - Golf in South Tyrol - ECPv6.15.20//NONSGML v1.0//EN
CALSCALE:GREGORIAN
METHOD:PUBLISH
X-WR-CALNAME:GOLFCLUB PETERSBERG  - Golf in South Tyrol
X-ORIGINAL-URL:https://golfclubpetersberg.it/en/
X-WR-CALDESC:Events for GOLFCLUB PETERSBERG  - Golf in South Tyrol
REFRESH-INTERVAL;VALUE=DURATION:PT1H
X-Robots-Tag:noindex
X-PUBLISHED-TTL:PT1H
BEGIN:VTIMEZONE
TZID:Europe/Rome
BEGIN:DAYLIGHT
TZOFFSETFROM:+0100
TZOFFSETTO:+0200
TZNAME:CEST
DTSTART:20170326T010000
END:DAYLIGHT
BEGIN:STANDARD
TZOFFSETFROM:+0200
TZOFFSETTO:+0100
TZNAME:CET
DTSTART:20171029T010000
END:STANDARD
BEGIN:DAYLIGHT
TZOFFSETFROM:+0100
TZOFFSETTO:+0200
TZNAME:CEST
DTSTART:20180325T010000
END:DAYLIGHT
BEGIN:STANDARD
TZOFFSETFROM:+0200
TZOFFSETTO:+0100
TZNAME:CET
DTSTART:20181028T010000
END:STANDARD
BEGIN:DAYLIGHT
TZOFFSETFROM:+0100
TZOFFSETTO:+0200
TZNAME:CEST
DTSTART:20190331T010000
END:DAYLIGHT
BEGIN:STANDARD
TZOFFSETFROM:+0200
TZOFFSETTO:+0100
TZNAME:CET
DTSTART:20191027T010000
END:STANDARD
END:VTIMEZONE
BEGIN:VEVENT
DTSTART;VALUE=DATE:20181006
DTEND;VALUE=DATE:20181007
DTSTAMP:20260419T161520
CREATED:20180311T224611Z
LAST-MODIFIED:20180923T080137Z
UID:8534-1538784000-1538870399@golfclubpetersberg.it
SUMMARY:INTERCLUB GC DOLOMITI - GC PETERSBERG
DESCRIPTION:DIESES TURNIER WIRD IM GC DOLOMITI GESPIELT !!!!!! \nQUESTA GARA SI GIOCA AL GC DOLOMITI  !!!!!! \nEinschreibung bitte im Sekretariat des GC Petersberg oder direkt beim GC Dolomiti. \nIscrizioni presso la segreteria del GC Petersberg o direttamente presso il GC Dolomiti.
URL:https://golfclubpetersberg.it/en/event/interclub-gc-dolomiti-gc-petersberg-2/
ATTACH;FMTTYPE=image/jpeg:https://golfclubpetersberg.it/wp-content/uploads/2018/03/Interclub-Petersberg-Dolomiti.jpg
END:VEVENT
BEGIN:VEVENT
DTSTART;VALUE=DATE:20181007
DTEND;VALUE=DATE:20181008
DTSTAMP:20260419T161520
CREATED:20180923T082317Z
LAST-MODIFIED:20180923T082417Z
UID:10818-1538870400-1538956799@golfclubpetersberg.it
SUMMARY:REGGELBERGER GOLFTAG
DESCRIPTION:
URL:https://golfclubpetersberg.it/en/event/reggelberger-golftag/
ATTACH;FMTTYPE=image/jpeg:https://golfclubpetersberg.it/wp-content/uploads/2018/09/Ball-Reggelberg.jpg
END:VEVENT
BEGIN:VEVENT
DTSTART;VALUE=DATE:20181014
DTEND;VALUE=DATE:20181015
DTSTAMP:20260419T161520
CREATED:20180311T222456Z
LAST-MODIFIED:20181015T145810Z
UID:8500-1539475200-1539561599@golfclubpetersberg.it
SUMMARY:26. SKI CENTER LATEMAR GOLF TROPHY
DESCRIPTION:Ski-Center-Latemar-2018-brutto-lordo \nSki-Center-Latemar-2018-netto-3 \nSki-Center-Latemar-2018-netto-2 \nSki-Center-Latemar-2018-netto-1 \n \n  \nSKI-CENTER-LATEMAR_Golfcup_2018
URL:https://golfclubpetersberg.it/en/event/ski-center-latemar-golf-trophy-2/
LOCATION:Golfclub Petersberg\, Unterwinkl 5\, Petersberg\, 39050\, Italia
ATTACH;FMTTYPE=image/jpeg:https://golfclubpetersberg.it/wp-content/uploads/2018/03/Logo-Ski-Center.jpg
END:VEVENT
BEGIN:VEVENT
DTSTART;VALUE=DATE:20181020
DTEND;VALUE=DATE:20181021
DTSTAMP:20260419T161520
CREATED:20180311T224425Z
LAST-MODIFIED:20181021T095055Z
UID:8528-1539993600-1540079999@golfclubpetersberg.it
SUMMARY:INTERCLUB GC PETERSBERG - GC DOLOMITI
DESCRIPTION:Interclub-Premiati \nInterclub-classifica-squadra \nInterclub-netto-generale \nInterclub-netto-2 \nInterclub-netto-1 \nInterclub-lordo-generale \n  \nINTERCLUB 2018 \n\nPETERSBERG vs. GC. DOLOMITI \nL’interclub 2018 tra il Golf Club Dolomiti e Golf Club Petersberg\, è riservato ai giocatori e giocatrici iscritti e tesserati in uno dei due circoli in questione e si articola su due prove: \n\nSabato 6 ottobre 2018 – incontro presso il Golf Dolomiti\n\n\nSabato\, 20 ottobre 2018 – incontro presso il Golf Petersberg\n\nOgni gara sarà svolta con formula stableford 2 categorie ( 0 – 18 / 19 – 36). \nPremi di giornata: 1°\, 2°\, netto per categoria\, 1° lordo. \nTrofeo “Interclub 2018”  alla squadra vincente. \nClassifica a squadre: \nVerranno sommati i primi sei risultati netti e i primi sei risultati lordi di ogni circolo nelle singole prove. Il numero di partecipanti per squadra non è limitato. \nL’ Interclub 2018 sarà vinto dal Circolo che totalizzerà più punti sommando i risultati a squadre delle due prove. In caso di parità verrà preso in considerazione il miglior risultato dei settimi classificati netto ed eventualmente anche degli ottavi (sempre 7° netto a Petersberg + 7° netto a Sarnonico) \nLe iscrizioni dovranno pervenire alla Segreteria del Circolo che organizza la competizione il giorno precedente la gara entro le ore 12\, esclusivamente dai Circoli di appartenenza. \nLa quota di iscrizione comprensiva di green fee è fissata a € 50\,00 per giocatore e a € 30\,00 per giocatore junior e dovrà essere versata prima della gara. I giocatori del circolo di casa pagheranno solo la relativa quota di iscrizione gara. \nAl termine di ogni incontro\, cena per tutti i partecipanti offerto dal circolo ospitante. \nIl Comitato organizzatore si riserva la facoltà di apportare modifiche al presente regolamento qualora se ne presenti la necessità. \n  \nIl CdG. Le Comm.Sportive dei due Circoli \n       \nINTERCLUB 2018 PETERSBERG vs. GC. DOLOMITI \nDer Interclub 2018 wird zwischen dem Golf Club Dolomiti und dem Golf Club Petersberg in zwei Begegnungen ausgetragen an denen Mitglieder mit regulärem Mitgliedsausweis der beiden Clubs teilnehmen dürfen. Die Begegnungen finden am \n\nSamstag\, 6. Oktober 2018 – am Golfplatz Dolomiti und am \n\n\nSamstag\, 20. Oktober 2018 – am Golfplatz Petersberg statt.\n\n  \nGespielt werden pro Begegnung 18 Loch Stableford – 2 Kat. ( 0 – 18 / 19 – 36). \nPrämiert werden: 1°\, 2°\, netto pro Kategorie\, 1° Brutto. \nTrophäe “Interclub 2018”  für die siegreiche Mannschaft. \n  \nMannschaftswertung: \nPro Mannschaft werden in beiden Begegnungen die sechs besten Nettoresultate und die sechs besten Bruttoresultate addiert. Die Anzahl der teilnehmenden Spieler pro Club ist nicht begrenzt. \nSieger des Interclub 2018 ist jene Mannschaft\, welche in beiden Turnieren mehr Punkte erreicht. Bei Gleichstand entscheiden die besseren Resultate Netto der 7. Spieler und ev. der 8. Spieler (d.h. 7. Netto in Petersberg + 7. Netto in Sarnonico) \nEinschreibungen können ausschließlich über den Heimatclub erfolgen und werden von diesem am Tag vor der Begegnung innerhalb 12 Uhr an das Sekretariat des Turnierplatzes weitergeleitet. \nDas Nenngeld muss vor Beginn der Runde entrichtet werden und beträgt für Green Fee und Turniergebühr € 50\,-\, für Junioren € 30\,00. Die Spieler des Heimatclubs entrichten nur die Turniergebühr. \nNach Abschluss jeder Begegnung richtet der austragende Club ein Essen aus. \nDie Turnierleitung hat das Recht\, am vorliegenden Reglement aus organisatorischen Gründen Änderungen vorzunehmen. \nTurnierleitung:            die Sportkommissionen der beiden Clubs
URL:https://golfclubpetersberg.it/en/event/interclub-gc-petersberg-gc-dolomiti-3/
LOCATION:Golfclub Petersberg\, Unterwinkl 5\, Petersberg\, 39050\, Italia
ATTACH;FMTTYPE=image/jpeg:https://golfclubpetersberg.it/wp-content/uploads/2018/03/Interclub-Petersberg-Dolomiti.jpg
END:VEVENT
BEGIN:VEVENT
DTSTART;VALUE=DATE:20181021
DTEND;VALUE=DATE:20181022
DTSTAMP:20260419T161520
CREATED:20181010T091003Z
LAST-MODIFIED:20181026T122110Z
UID:11015-1540080000-1540166399@golfclubpetersberg.it
SUMMARY:TURNIER DER SPORTKOMMISSION - TROFEO COMMISSIONE SPORTIVA
DESCRIPTION:Am Sonntag\, 21. Oktober spielen wir das Turnier der Sportkommission: \n18 Loch medal:           1. und 2. Kategorie\n18 Loch stableford:    3. Kategorie \n*+*+*+*+*+*+*+* \nDomenica\, 21. ottobre giochiamo la gara della commissione sportiva: \n18 buche medal:            1^ e 2^ categoria\n18 buche stableford:     3^ categoria \n  \nSportkommisison/Comm.sportiva-stableford-medal-brutto \nSportkSportkommisison / Comm.sportiva-stableford-netto \nSportkommisison / Comm. sportiva-stableford-medal-netto
URL:https://golfclubpetersberg.it/en/event/turnier-der-sportkommission-trofeo-commissione-sportiva-2/
ATTACH;FMTTYPE=image/jpeg:https://golfclubpetersberg.it/wp-content/uploads/2018/03/Logo-Ball-2.jpg
END:VEVENT
BEGIN:VEVENT
DTSTART;VALUE=DATE:20181028
DTEND;VALUE=DATE:20181029
DTSTAMP:20260419T161520
CREATED:20180321T115856Z
LAST-MODIFIED:20181026T123537Z
UID:8603-1540684800-1540771199@golfclubpetersberg.it
SUMMARY:LOUISIANA DAY - Louisiana for 2
DESCRIPTION:Louisiana für 2-er Mannschaften – Louisiana per squadre a 2 giocatori \nAbendessen mit Abschlussfeier nach der Preisverteilung \nCena con festa di fine stagione subito dopo la premiazione \n  \nDAS TURNIER IST AUFGRUND DES REGENS ABGESAGT. \nLA GARA È CANCELLATA PER LA PIOGGIA. \n  \n 
URL:https://golfclubpetersberg.it/en/event/louisiana-day-louisiana-for-2/
ATTACH;FMTTYPE=image/jpeg:https://golfclubpetersberg.it/wp-content/uploads/2018/03/Logo-Ball-2.jpg
END:VEVENT
END:VCALENDAR