BEGIN:VCALENDAR
VERSION:2.0
PRODID:-//GOLFCLUB PETERSBERG  - Golf in Alto Adige - ECPv6.15.20//NONSGML v1.0//EN
CALSCALE:GREGORIAN
METHOD:PUBLISH
X-WR-CALNAME:GOLFCLUB PETERSBERG  - Golf in Alto Adige
X-ORIGINAL-URL:https://golfclubpetersberg.it/it/
X-WR-CALDESC:Eventi per GOLFCLUB PETERSBERG  - Golf in Alto Adige
REFRESH-INTERVAL;VALUE=DURATION:PT1H
X-Robots-Tag:noindex
X-PUBLISHED-TTL:PT1H
BEGIN:VTIMEZONE
TZID:Europe/Rome
BEGIN:DAYLIGHT
TZOFFSETFROM:+0100
TZOFFSETTO:+0200
TZNAME:CEST
DTSTART:20140330T010000
END:DAYLIGHT
BEGIN:STANDARD
TZOFFSETFROM:+0200
TZOFFSETTO:+0100
TZNAME:CET
DTSTART:20141026T010000
END:STANDARD
BEGIN:DAYLIGHT
TZOFFSETFROM:+0100
TZOFFSETTO:+0200
TZNAME:CEST
DTSTART:20150329T010000
END:DAYLIGHT
BEGIN:STANDARD
TZOFFSETFROM:+0200
TZOFFSETTO:+0100
TZNAME:CET
DTSTART:20151025T010000
END:STANDARD
BEGIN:DAYLIGHT
TZOFFSETFROM:+0100
TZOFFSETTO:+0200
TZNAME:CEST
DTSTART:20160327T010000
END:DAYLIGHT
BEGIN:STANDARD
TZOFFSETFROM:+0200
TZOFFSETTO:+0100
TZNAME:CET
DTSTART:20161030T010000
END:STANDARD
END:VTIMEZONE
BEGIN:VEVENT
DTSTART;VALUE=DATE:20150503
DTEND;VALUE=DATE:20150504
DTSTAMP:20260421T033132
CREATED:20170804T162329Z
LAST-MODIFIED:20170804T162329Z
UID:5899-1430611200-1430697599@golfclubpetersberg.it
SUMMARY:STAR TOUR 2015   Stableford
DESCRIPTION:[vc_row type=”in_container” full_screen_row_position=”middle” scene_position=”center” text_color=”dark” text_align=”left” overlay_strength=”0.3″][vc_column column_padding=”no-extra-padding” column_padding_position=”all” background_color_opacity=”1″ background_hover_color_opacity=”1″ column_shadow=”none” width=”1/1″ tablet_text_alignment=”default” phone_text_alignment=”default” column_border_width=”none” column_border_style=”solid”][vc_column_text]\nSTAR TOUR 2015   Stableford\nSTARTLISTE – ORDINE DI PARTENZA\nErgebnislisten – Risultati:\nBrutto – Lordo     Netto-1     Netto-2     Netto-3 \n \n \n                               \n\n\n\n                      \nSTAR TOUR è una serie di 4 bellissime gare\, ciascuna con un bellissimo programma soprattutto gastronomico ed una festa finale all’Hotel Cristal di Obereggen. Ogni gara avrà una sua classifica e \npremiazione e al termine della gare è prevista una bella cena per tutti i partecipanti. \nChi giocherà almeno 3 gare della Star Tour partecipa automaticamente alla classifica generale “3 risultati di 4” della Star Tour. Inoltre sono previsti diversi premi speciali per i giocatori che hanno partecipato ad almeno 3 gare Star Tour\, indipendentemente dal risultato conseguito. \nLa premiazione della classifica generale e quella dell’ultima gara del 28 giugno 2014 avranno luogo presso l’Hotel Cristal di Obereggen. Per questa festa finale gli spnsor organizzano una bellissima grigliata con musica e buffet di dolci. Sono invitati tutti i soci del Golf Club Petersberg\, tutti i giocatori che hanno partecipato ad almeno una gara Star Tour e naturalmente tutti gli ospiti degli sponsor. \nLa famiglia Parth della GIOIELLERIA PARTH – BOLZNO\, mette a disposizione un bellissimo orologio per un „Hole in one“ alla buca 17. \nLe giornate di gara della Star Tour 2015 \n\nDomenica\, 4 maggio 2015\nGara individuale stableford con festa di inizio circuito e cena subito dopo la premiazione.\nDomenica\, 17 maggio 2015\n4-palle-la-migliore con partenza simultanea alle ore 10.00. Al rientro premiazione e pranzo in Clubhouse e/o sulla terrazza.\nDomenica\, 21 giugno 2015\nLouisiana per squadre a due giocatori con giro gastronomico sul campo. Le squadre del Ristorante del Club e dell’Hotel Cristal prepareranno diverse specialità gastronomiche sulle buche del campo. Al termine del giro i giocatori avranno mangiato un menu a diverse portate giocando qualche buca di golf tra una portata e l’altra.\nSabato\, 4 luglio 2015\nGara individuale stableford. La premiazione della giornata e quella della classifica generale avrà luogo dopo la grigliata all’Hotel Cristal.\n\nPer i vincitori della classifica generale ci saranno di nuovo bellissimi Week-End con albergo e volo in diverse cità europee. \n\nLa fam. Parth della Gioielleria Parth di Bozen mette a disposizione un’orologio per un Hole-In-One alla buca 17. Se ci sono più giocaotri che fanno un Hole-In-One\, l’orologio verrà messo in estrazione tra questi giocatori. Se nessun giocatore riuscirà a farlo\, l’orologio verrà assegnato al miglior “Nearest to the pin”\, sempre alla buca 17.\n\nPremi speciali\nPer i giocatori che avranno partecipato ad almeno 3 tappe della Star-Tour ci saranno dei bellissimi premi speciali e premi ad estrazione. Tra l’altro ci saranno dei Week-End con albergo e volo in 3 diverse cità europee.\nUno di questi premi sarà il premio “Heinz Fischnaller”. Questo premi andrà al giocatore che sarà esattamente a metà della classifica netta. \nStar-Tour-Ticket\nPer i giocatori che non sono soci del Golf Club Petersberg ci sarà la possibilità di acquistare un Star-Tour-Ticket che permette la partecipazione completamente gratuita a tutte le 4 gare della Star Tour. Il costo di questo ticket è di 249 Euro. \nPROGRAMMA DELLA STAR TOUR \nPROGRAMMA DELLA STAR TOUR – RISOLUZIONE PER STAMPA \n\n\n\n[/vc_column_text][/vc_column][/vc_row][vc_row type=”in_container” full_screen_row_position=”middle” scene_position=”center” text_color=”dark” text_align=”left” overlay_strength=”0.3″][vc_column column_padding=”no-extra-padding” column_padding_position=”all” background_color_opacity=”1″ background_hover_color_opacity=”1″ column_shadow=”none” width=”1/1″ tablet_text_alignment=”default” phone_text_alignment=”default” column_border_width=”none” column_border_style=”solid”][vc_gallery type=”image_grid” images=”2845\,2846\,2847\,2850\,2851\,2852\,2853\,2854\,2855\,2856″ layout=”4″ masonry_style=”true” gallery_style=”3″ load_in_animation=”fade_in_from_bottom” img_size=”medium”][/vc_column][/vc_row]
URL:https://golfclubpetersberg.it/it/event/star-tour-2015-stableford-2/
LOCATION:Golfclub Petersberg\, Unterwinkl 5\, Petersberg\, 39050\, Italia
ORGANIZER;CN="Golfclub Petersberg":MAILTO:info@golfclubpetersberg.it
END:VEVENT
BEGIN:VEVENT
DTSTART;VALUE=DATE:20150509
DTEND;VALUE=DATE:20150510
DTSTAMP:20260421T033132
CREATED:20170804T162223Z
LAST-MODIFIED:20170804T162223Z
UID:5903-1431129600-1431215999@golfclubpetersberg.it
SUMMARY:TROFEO GUIDA GOLF 2015
DESCRIPTION:[vc_row type=”in_container” full_screen_row_position=”middle” scene_position=”center” text_color=”dark” text_align=”left” overlay_strength=”0.3″][vc_column column_padding=”no-extra-padding” column_padding_position=”all” background_color_opacity=”1″ background_hover_color_opacity=”1″ column_shadow=”none” width=”1/1″ tablet_text_alignment=”default” phone_text_alignment=”default” column_border_width=”none” column_border_style=”solid”][vc_column_text]\nTROFEO GUIDA GOLF 2015\nErgebnisse – Risultati\nBrutto / Lordo     Netto-1     Netto-2     Netto-3  \n\n[/vc_column_text][/vc_column][/vc_row][vc_row type=”in_container” full_screen_row_position=”middle” scene_position=”center” text_color=”dark” text_align=”left” overlay_strength=”0.3″][vc_column column_padding=”no-extra-padding” column_padding_position=”all” background_color_opacity=”1″ background_hover_color_opacity=”1″ column_shadow=”none” width=”1/1″ tablet_text_alignment=”default” phone_text_alignment=”default” column_border_width=”none” column_border_style=”solid”][vc_gallery type=”image_grid” images=”2838\,2839\,2840\,2843\,2844″ layout=”4″ masonry_style=”true” gallery_style=”3″ load_in_animation=”fade_in_from_bottom” img_size=”medium”][/vc_column][/vc_row]
URL:https://golfclubpetersberg.it/it/event/trofeo-guida-golf-2015/
LOCATION:Golfclub Petersberg\, Unterwinkl 5\, Petersberg\, 39050\, Italia
ORGANIZER;CN="Golfclub Petersberg":MAILTO:info@golfclubpetersberg.it
END:VEVENT
BEGIN:VEVENT
DTSTART;VALUE=DATE:20150524
DTEND;VALUE=DATE:20150525
DTSTAMP:20260421T033132
CREATED:20170804T162120Z
LAST-MODIFIED:20170804T162120Z
UID:5919-1432425600-1432511999@golfclubpetersberg.it
SUMMARY:2015 Meister Geselle - MAESTRO & APPRENDISTA
DESCRIPTION:[vc_row type=”in_container” full_screen_row_position=”middle” scene_position=”center” text_color=”dark” text_align=”left” overlay_strength=”0.3″][vc_column column_padding=”no-extra-padding” column_padding_position=”all” background_color_opacity=”1″ background_hover_color_opacity=”1″ column_shadow=”none” width=”1/1″ tablet_text_alignment=”default” phone_text_alignment=”default” column_border_width=”none” column_border_style=”solid”][vc_column_text]\nMAESTRO & APPRENDISTA\nQuesta gara viene giocata a squadre. Ogni squadra è composta da un giocatore\ndi golf (con handicap o carta verde) e da un giocatore non-golfista. \nIl giocatore di golf deve giocare tutti i colpi fuori dal green ed il non-golfista\ndeve giocare tutti i colpi sul green.\nLa squadra gioca con l’handicap del giocatore di golf. \n  \nERGEBNISLISTE NETTO – RISULTATI NETTO \n[/vc_column_text][/vc_column][/vc_row][vc_row type=”in_container” full_screen_row_position=”middle” scene_position=”center” text_color=”dark” text_align=”left” overlay_strength=”0.3″][vc_column column_padding=”no-extra-padding” column_padding_position=”all” background_color_opacity=”1″ background_hover_color_opacity=”1″ column_shadow=”none” width=”1/1″ tablet_text_alignment=”default” phone_text_alignment=”default” column_border_width=”none” column_border_style=”solid”][vc_gallery type=”image_grid” images=”2822\,2823\,2824\,2825\,2826\,2827\,2829\,2831\,2832\,2833\,2834\,2835\,2836\,2837″ layout=”4″ masonry_style=”true” gallery_style=”3″ load_in_animation=”fade_in_from_bottom” img_size=”medium”][/vc_column][/vc_row]
URL:https://golfclubpetersberg.it/it/event/2015-meister-geselle-maestro-apprendista/
LOCATION:Golfclub Petersberg\, Unterwinkl 5\, Petersberg\, 39050\, Italia
ORGANIZER;CN="Golfclub Petersberg":MAILTO:info@golfclubpetersberg.it
END:VEVENT
BEGIN:VEVENT
DTSTART;VALUE=DATE:20150527
DTEND;VALUE=DATE:20150528
DTSTAMP:20260421T033132
CREATED:20170804T161844Z
LAST-MODIFIED:20170804T161844Z
UID:5905-1432684800-1432771199@golfclubpetersberg.it
SUMMARY:PRIMA GOLF TROPHY 2015
DESCRIPTION:[vc_row type=”in_container” full_screen_row_position=”middle” scene_position=”center” text_color=”dark” text_align=”left” overlay_strength=”0.3″][vc_column column_padding=”no-extra-padding” column_padding_position=”all” background_color_opacity=”1″ background_hover_color_opacity=”1″ column_shadow=”none” width=”1/1″ tablet_text_alignment=”default” phone_text_alignment=”default” column_border_width=”none” column_border_style=”solid”][vc_column_text]\nPRIMA GOLF TROPHY 2015\nLE FOTO SONO SULLA PAGINA FACEBOOK DI PRIMA \n \nErgebnislisten – Risultati: \nBRUTTO    NETTO-1    NETTO-2    NETTO-3 \nDie Prämierten   –   I premiati[/vc_column_text][/vc_column][/vc_row][vc_row type=”in_container” full_screen_row_position=”middle” scene_position=”center” text_color=”dark” text_align=”left” overlay_strength=”0.3″][vc_column column_padding=”no-extra-padding” column_padding_position=”all” background_color_opacity=”1″ background_hover_color_opacity=”1″ column_shadow=”none” width=”1/1″ tablet_text_alignment=”default” phone_text_alignment=”default” column_border_width=”none” column_border_style=”solid”][vc_gallery type=”image_grid” layout=”4″ masonry_style=”true” gallery_style=”3″ load_in_animation=”fade_in_from_bottom” img_size=”medium”][/vc_column][/vc_row]
URL:https://golfclubpetersberg.it/it/event/golf-trophy-2015/
LOCATION:Golfclub Petersberg\, Unterwinkl 5\, Petersberg\, 39050\, Italia
ORGANIZER;CN="Golfclub Petersberg":MAILTO:info@golfclubpetersberg.it
END:VEVENT
BEGIN:VEVENT
DTSTART;VALUE=DATE:20150531
DTEND;VALUE=DATE:20150601
DTSTAMP:20260421T033132
CREATED:20170804T162017Z
LAST-MODIFIED:20170804T162017Z
UID:5907-1433030400-1433116799@golfclubpetersberg.it
SUMMARY:26. HELLA GOLF TROPHY
DESCRIPTION:[vc_row type=”in_container” full_screen_row_position=”middle” scene_position=”center” text_color=”dark” text_align=”left” overlay_strength=”0.3″][vc_column column_padding=”no-extra-padding” column_padding_position=”all” background_color_opacity=”1″ background_hover_color_opacity=”1″ column_shadow=”none” width=”1/1″ tablet_text_alignment=”default” phone_text_alignment=”default” column_border_width=”none” column_border_style=”solid”][vc_column_text]\n26. HELLA GOLF TROPHY\nDomenica\, 31 maggio giochiamo per la 26a  volta la gara della ditta HELLA\,\norganizzata dal nostro socio Kurt Tetter.\nPartiremo come sempre con una partenza simultanea alle ore 10.30 e subito\ndopo la premiazione tutti i partecipanti sono invitati al tradizionale pranzo della\nHELLA. \n  \nErgebnisse – Risultati: \nBrutto-Lordo    Netto-1   Netto-2   Netto-3 \n \n[/vc_column_text][/vc_column][/vc_row][vc_row type=”in_container” full_screen_row_position=”middle” scene_position=”center” text_color=”dark” text_align=”left” overlay_strength=”0.3″][vc_column column_padding=”no-extra-padding” column_padding_position=”all” background_color_opacity=”1″ background_hover_color_opacity=”1″ column_shadow=”none” width=”1/1″ tablet_text_alignment=”default” phone_text_alignment=”default” column_border_width=”none” column_border_style=”solid”][vc_gallery type=”image_grid” images=”2808\,2809\,2810\,2813\,2814\,2815\,2816\,2817\,2818\,2819″ layout=”4″ masonry_style=”true” gallery_style=”3″ load_in_animation=”fade_in_from_bottom” img_size=”medium”][/vc_column][/vc_row]
URL:https://golfclubpetersberg.it/it/event/26-hella-golf-trophy/
LOCATION:Golfclub Petersberg\, Unterwinkl 5\, Petersberg\, 39050\, Italia
ORGANIZER;CN="Golfclub Petersberg":MAILTO:info@golfclubpetersberg.it
END:VEVENT
END:VCALENDAR