BEGIN:VCALENDAR
VERSION:2.0
PRODID:-//GOLFCLUB PETERSBERG  - Golf in Alto Adige - ECPv6.15.20//NONSGML v1.0//EN
CALSCALE:GREGORIAN
METHOD:PUBLISH
X-WR-CALNAME:GOLFCLUB PETERSBERG  - Golf in Alto Adige
X-ORIGINAL-URL:https://golfclubpetersberg.it/it/
X-WR-CALDESC:Eventi per GOLFCLUB PETERSBERG  - Golf in Alto Adige
REFRESH-INTERVAL;VALUE=DURATION:PT1H
X-Robots-Tag:noindex
X-PUBLISHED-TTL:PT1H
BEGIN:VTIMEZONE
TZID:Europe/Rome
BEGIN:DAYLIGHT
TZOFFSETFROM:+0100
TZOFFSETTO:+0200
TZNAME:CEST
DTSTART:20150329T010000
END:DAYLIGHT
BEGIN:STANDARD
TZOFFSETFROM:+0200
TZOFFSETTO:+0100
TZNAME:CET
DTSTART:20151025T010000
END:STANDARD
BEGIN:DAYLIGHT
TZOFFSETFROM:+0100
TZOFFSETTO:+0200
TZNAME:CEST
DTSTART:20160327T010000
END:DAYLIGHT
BEGIN:STANDARD
TZOFFSETFROM:+0200
TZOFFSETTO:+0100
TZNAME:CET
DTSTART:20161030T010000
END:STANDARD
BEGIN:DAYLIGHT
TZOFFSETFROM:+0100
TZOFFSETTO:+0200
TZNAME:CEST
DTSTART:20170326T010000
END:DAYLIGHT
BEGIN:STANDARD
TZOFFSETFROM:+0200
TZOFFSETTO:+0100
TZNAME:CET
DTSTART:20171029T010000
END:STANDARD
END:VTIMEZONE
BEGIN:VEVENT
DTSTART;VALUE=DATE:20160605
DTEND;VALUE=DATE:20160606
DTSTAMP:20260420T065208
CREATED:20170731T133640Z
LAST-MODIFIED:20170731T133640Z
UID:5883-1465084800-1465171199@golfclubpetersberg.it
SUMMARY:27. HELLA GOLF TROPHY
DESCRIPTION:[vc_row type=”in_container” full_screen_row_position=”middle” scene_position=”center” text_color=”dark” text_align=”left” overlay_strength=”0.3″][vc_column column_padding=”no-extra-padding” column_padding_position=”all” background_color_opacity=”1″ background_hover_color_opacity=”1″ column_shadow=”none” width=”1/1″ tablet_text_alignment=”default” phone_text_alignment=”default” column_border_width=”none” column_border_style=”solid”][vc_column_text]\n27. HELLA GOLF TROPHY\n \nStableford – Kanonenstart um 10.00 Uhr \nErgebnisse – Risultati:  Brutto/Lordo    Netto-1    Netto-2    Netto-3[/vc_column_text][/vc_column][/vc_row][vc_row type=”in_container” full_screen_row_position=”middle” scene_position=”center” text_color=”dark” text_align=”left” overlay_strength=”0.3″][vc_column column_padding=”no-extra-padding” column_padding_position=”all” background_color_opacity=”1″ background_hover_color_opacity=”1″ column_shadow=”none” width=”1/1″ tablet_text_alignment=”default” phone_text_alignment=”default” column_border_width=”none” column_border_style=”solid”][vc_gallery type=”image_grid” images=”2318\,2319\,2320\,2321\,2322\,2323\,2324\,2325\,2326\,2327\,2328\,2329\,2330\,2331\,2332\,2333″ layout=”4″ masonry_style=”true” gallery_style=”3″ load_in_animation=”fade_in_from_bottom” img_size=”medium”][/vc_column][/vc_row]
URL:https://golfclubpetersberg.it/it/event/27-hella-golf-trophy/
LOCATION:Golfclub Petersberg\, Unterwinkl 5\, Petersberg\, 39050\, Italia
ORGANIZER;CN="Golfclub Petersberg":MAILTO:info@golfclubpetersberg.it
END:VEVENT
BEGIN:VEVENT
DTSTART;VALUE=DATE:20160609
DTEND;VALUE=DATE:20160610
DTSTAMP:20260420T065208
CREATED:20170731T094412Z
LAST-MODIFIED:20170731T094412Z
UID:5885-1465430400-1465516799@golfclubpetersberg.it
SUMMARY:LADIES CUP 2016
DESCRIPTION:[vc_row type=”in_container” full_screen_row_position=”middle” scene_position=”center” text_color=”dark” text_align=”left” overlay_strength=”0.3″][vc_column column_padding=”no-extra-padding” column_padding_position=”all” background_color_opacity=”1″ background_hover_color_opacity=”1″ column_shadow=”none” width=”1/1″ tablet_text_alignment=”default” phone_text_alignment=”default” column_border_width=”none” column_border_style=”solid”][vc_column_text]\nLADIES CUP 2016\nStartzeiten – Partenze \nDONNERSTAG – GIOVEDì\, 09.06.2016 \n \nBRUTTO / LORDO           NETTO[/vc_column_text][/vc_column][/vc_row][vc_row type=”in_container” full_screen_row_position=”middle” scene_position=”center” text_color=”dark” text_align=”left” overlay_strength=”0.3″][vc_column column_padding=”no-extra-padding” column_padding_position=”all” background_color_opacity=”1″ background_hover_color_opacity=”1″ column_shadow=”none” width=”1/1″ tablet_text_alignment=”default” phone_text_alignment=”default” column_border_width=”none” column_border_style=”solid”][vc_gallery type=”image_grid” images=”1898\,1899\,1900\,1901\,1902\,1903\,1904\,1905\,1906\,1907\,1908″ layout=”4″ masonry_style=”true” gallery_style=”3″ load_in_animation=”fade_in_from_bottom” img_size=”medium”][/vc_column][/vc_row]
URL:https://golfclubpetersberg.it/it/event/ladies-cup-2016/
LOCATION:Golfclub Petersberg\, Unterwinkl 5\, Petersberg\, 39050\, Italia
ORGANIZER;CN="Golfclub Petersberg":MAILTO:info@golfclubpetersberg.it
END:VEVENT
BEGIN:VEVENT
DTSTART;VALUE=DATE:20160611
DTEND;VALUE=DATE:20160612
DTSTAMP:20260420T065208
CREATED:20170731T125603Z
LAST-MODIFIED:20170731T125603Z
UID:5887-1465603200-1465689599@golfclubpetersberg.it
SUMMARY:RITTNER TURNIER - GARA DEL RENON
DESCRIPTION:[vc_row type=”in_container” full_screen_row_position=”middle” scene_position=”center” text_color=”dark” text_align=”left” overlay_strength=”0.3″][vc_column column_padding=”no-extra-padding” column_padding_position=”all” background_color_opacity=”1″ background_hover_color_opacity=”1″ column_shadow=”none” width=”1/1″ tablet_text_alignment=”default” phone_text_alignment=”default” column_border_width=”none” column_border_style=”solid”][vc_column_text]\nRITTNER TURNIER – GARA DEL RENON\n  \nGolf Club Petersberg \nSamstag – Sabato\, 11.06.2016 \n18 Loch stableford \nStart – 12:00 Uhr – ore 12:00 \nIscrizioni: \nPresso la segreteria del Golf Club Petersberg:   Tel: 0471 615122   –    info@golfclubpetersberg.it \nPossono parteciparvi tutti i golfisti che sono nati sul Renon e che hanno la residenza sul Renon\, inclusi i loro famigliari. \nNel dubbio decide il comitato organizzatore \nLa quota di partecipazione è di 30 Eruo e comprende anche una piccola cena (vino compreso). Il Green-Fee per i giocatori che non sono soci del Golf Club Petersberg \nè di 30 Euro. \nDurante la premiazione verranno sorteggiati diversi premi. \nTutti i partecipanti si ritrovano alle ore 12.00 alla buca 1 per un bicchiere di Prosecco e dopo si parte su diverse buche. \nSperando di essere un bel gruppo auguriamo a tutti una bella giornata. \nPer poter prenotare le partenze necessarie e per organizzare la cena\, preghiamo di mandare l’adesione appena possibile. \n  \nPer il comitato organizzatore \nGeorg Eisath\, Hans Ramoser\, Toni Niederstätter[/vc_column_text][/vc_column][/vc_row][vc_row type=”in_container” full_screen_row_position=”middle” scene_position=”center” text_color=”dark” text_align=”left” overlay_strength=”0.3″][vc_column column_padding=”no-extra-padding” column_padding_position=”all” background_color_opacity=”1″ background_hover_color_opacity=”1″ column_shadow=”none” width=”1/1″ tablet_text_alignment=”default” phone_text_alignment=”default” column_border_width=”none” column_border_style=”solid”][vc_gallery type=”image_grid” layout=”4″ masonry_style=”true” gallery_style=”3″ load_in_animation=”fade_in_from_bottom” img_size=”medium”][/vc_column][/vc_row]
URL:https://golfclubpetersberg.it/it/event/rittner-turnier-gara-del-renon/
LOCATION:Golfclub Petersberg\, Unterwinkl 5\, Petersberg\, 39050\, Italia
ORGANIZER;CN="Golfclub Petersberg":MAILTO:info@golfclubpetersberg.it
END:VEVENT
BEGIN:VEVENT
DTSTART;VALUE=DATE:20160612
DTEND;VALUE=DATE:20160613
DTSTAMP:20260420T065208
CREATED:20170731T093830Z
LAST-MODIFIED:20170731T093830Z
UID:5889-1465689600-1465775999@golfclubpetersberg.it
SUMMARY:TEAM CHALLENGE HERREN 2016
DESCRIPTION:[vc_row type=”in_container” full_screen_row_position=”middle” scene_position=”center” text_color=”dark” text_align=”left” overlay_strength=”0.3″][vc_column column_padding=”no-extra-padding” column_padding_position=”all” background_color_opacity=”1″ background_hover_color_opacity=”1″ column_shadow=”none” width=”1/1″ tablet_text_alignment=”default” phone_text_alignment=”default” column_border_width=”none” column_border_style=”solid”][vc_column_text]TEAM CHALLENGE HERREN 2016 \nEingeladene Mannschaften: Alle Südtiroler Clubs mit einer Mannschaft von 6 Spielern pro Club \n \n \nERGEBNISSE  BRUTTO -: RISULTATI:     LORDO      NETTO \n———————————————————————————————————————– \nATTENZIONE – ACHTUNG ! ! ! ! ! !\nStraßensperre von ca. 1 Stunde auf folgenden Abschnitten wegen eines Radrennes.\nDie Radfahrer kommen von Cavalese und fahren über Aldein – Petersberg – Deutschnofen – Rauth nach Lavazé.\nDie Straße Eggental-Deutschnofen-Petersberg wird von ca. 8.45 Uhr bis ca. 10.20 gesperrt sein.\nDie Straße Montan-Aldein-Petersberg von ca. 8.20 Uhr bis ca. 10.00 Uhr. \nChiusura delle strade a tratti per ca. 1 ora a causa di una gara ciclistica:\nI ciclissti arrivano da Cavalese e percorrono la strada Aldino-Monte San Pietro – Nova Ponente – Novale – Lavazé.\nLa strada Val d’Ega – Nova Ponente – Monte San Pietro sarà chiusa ca. dalle ore 8.45 alle ore 10.20.\nLa strada Montagna – Aldino – Monte San Pietro sarà chiusa ca. dalle ore 8.20 alle ore 10.00 \nMitteilung des Organisationskommittes Marcialonga Cycling: \nCome ogni anno vi informiamo che DOMENICA 12 GIUGNO\, passerà la 10^ Granfondo di bici \nsu strada Marcialonga Cycling Craft\, con i presunti seguenti orari: \nATTACCO PONTE ALDINO           8.37 \nALDINO                                         8.53 \nMONTE SAN PIETRO                   9.07 \nNOVA PONENTE                           9.17 \nIl passaggio dei ciclisti durerà circa un’ora \nVi ringraziamo per informare i vostri clienti sugli orari e sui disagi di chiusura strade. \nCordiali saluti da Predazzo. \nwww.marcialonga.it \n————————————————————————————————————————- \n1. Jede Mannschaft besteht aus maximal 6 Amateurgolfer mit regulärem Hcp\, welche bei der FIG für den\nteilnehmenden Club auch tesseriert sein müssen. \n2. Die Mannschaft wird durch den Captain vertreten\, welcher sowohl Spieler als auch Nichtspieler sein kann.\nSpielt der Captain selber\, darf wer während seiner Runde den restlichen Mannschaftsmitgliedern keine\nRatschläge im Sinne der Golfregeln erteilen. \n3. Bei den einzelnen Turnieren kann eine Mannschaft auch mehr als 6 Spieler einschreiben\, der Captain muss\naber vor dem Start des ersten Flights die 6 Spieler namhaft machen\, welche für das Mannschaftsergebnis\ngewertet werden. Unterlässt der Captain diese Meldung zählen die ersten 6 gestarteten Spieler eines jeden\nClubs. Für das Einzelergebnis Netto und Brutto werden alle Spieler gewertet. \n4. Alle Turniere werden als Einzelturniere „Medal“ gespielt. \n5. Gespielt wird nach den Regeln laut der „R&A Rules Limited“ und den Platzregeln des austragenden Clubs. \n6. Gespielt werden 3 Turniere\, jeweils auf der Golfanlage eines teilnehmenden Clubs. Für die Tageswertung\nzählen die fünf besten NettoErgebnisse\nund die vier besten BruttoErgebnisse.\nEinzelne Spieler können\nsowohl in der Nettoals\nauch in der BruttoWertung\ngewertet werden. Bei Gleichstand zählt das bessere\nStreichresultat Brutto\, dann das beste Streichresultat Netto (dann 2. Brutto\, 2. Netto usw.). \n7. Für die Endwertung wird jedes Turnier wie folgt gewertet:1. Platz 10 Punkte\, 2. Platz 8 Punkte\, 3. Platz 6 Punkte\,\n4. Platz 4 Punkte. Nimmt eine Mannschaft an einem Turnier nicht teil\, erhält sie 0 Punkte für die \nGesamtwertung. Bei Gleichstand werden die Punkte der betroffenen Mannschaften zusammengezählt und zu\ngleichen Teilen aufgeteilt.\nBei Punktegleichstand für die Endwertung\, wird nach folgenden Kriterien anhand der\nMannschaftstageswertungen entschieden: erstens die meisten Siege\, zweitens die meisten zweiten Plätze und\ndrittens die meisten dritten Plätze etc. \n8. Die Spielerlisten mit Angabe des Captain und/oder dessen Vertretung müssen innerhalb 12.00 Uhr am Vortag\ndes jeweiligen Turniers an das Sekretariat des austragenden Clubs geschickt werden. Der austragende Club\nsendet die Startzeiten innerhalb 15.00 Uhr des Turniervortages mittels Fax oder Mail an die teilnehmenden\nClubs. \n9. Abbruch eines Turniers (wetterbedingt / durch Sirene)\na) sofern alle Teilnehmer bereits mehr als 9 Löcher gespielt haben\, wird maximal 1 Stunde ab dem Moment\ndes Sirenensignals gewartet\, um das Turnier nach Möglichkeit fortzusetzen.\nb) sollten noch nicht alle Teilnehmer 9 Löcher absolviert haben\, wird maximal 1 Stunde und 30 Minuten\ngewartet um das Turnier nach Möglichkeit fortzusetzen\, bis alle Teilnehmer 9 Löcher absolviert haben.\nc) sollte das Turnier noch nicht gestartet und alle Mannschaften anwesend sein\, so wird maximal 2 Stunden\ngewartet\, um das Turnier nach Möglichkeit über 9 Loch zu spielen.\nBei Unklarheiten entscheidet der Clubsekretär des gastgebenden Clubs gemeinsam mit den Captains wobei der\nSekretär und die anwesenden Captains jeweils eine Stimme haben und mit Mehrheit entscheiden. \n10. Die Einschreibegebühr beträgt € 20\,pro\nPerson inklusive eines gemeinsamen Essens (zwei Gerichte\, Wein\nund Wasser). Das Greenfee wird auf 35\,00 Euro festgelegt. \n11. Bei jedem Turnier werden der erste Brutto und der Erste Netto prämiert. Bei Gleichstand gelten die Regeln des\nGolfverbandes. Der Wanderpokal bzw. die Ehrentafel bleibt in dem Club\, welcher im Vorjahr die\nGesamtwertung gewonnen hat. Alle Turniere sind vorgabewirksam zu spielen. \n12. Der austragende Club organisiert jeweils die Verpflegung und organisiert die Startzeiten am Samstag\, 30.04 im\nGC Passeier ab 12.00 Uhr\, am Sonntag\, 12.06. im GC Petersberg ab 9.00 Uhr und am Samstag 27.08. im GC\nEppan ab 12.00 Uhr. \n13. Sollte eine Etappe aus welchen Gründen auch immer vor dem Start abgesagt \neine Etappe aus welchen Gründen auch immer vor dem Start abgesagt werden\, wird der Ersatztermin\nvon den Kapitänen und dem betroffenen Club koordiniert.[/vc_column_text][/vc_column][/vc_row][vc_row type=”in_container” full_screen_row_position=”middle” scene_position=”center” text_color=”dark” text_align=”left” overlay_strength=”0.3″][vc_column column_padding=”no-extra-padding” column_padding_position=”all” background_color_opacity=”1″ background_hover_color_opacity=”1″ column_shadow=”none” width=”1/1″ tablet_text_alignment=”default” phone_text_alignment=”default” column_border_width=”none” column_border_style=”solid”][vc_gallery type=”image_grid” images=”1882\,1883\,1884\,1885\,1886\,1887\,1888\,1889″ layout=”4″ masonry_style=”true” gallery_style=”3″ load_in_animation=”fade_in_from_bottom” img_size=”medium”][/vc_column][/vc_row]
URL:https://golfclubpetersberg.it/it/event/team-challenge-herren-2016/
LOCATION:Golfclub Petersberg\, Unterwinkl 5\, Petersberg\, 39050\, Italia
ORGANIZER;CN="Golfclub Petersberg":MAILTO:info@golfclubpetersberg.it
END:VEVENT
BEGIN:VEVENT
DTSTART;VALUE=DATE:20160619
DTEND;VALUE=DATE:20160620
DTSTAMP:20260420T065208
CREATED:20170731T091240Z
LAST-MODIFIED:20170731T091240Z
UID:5891-1466294400-1466380799@golfclubpetersberg.it
SUMMARY:2016-Star-Tour-3
DESCRIPTION:[vc_row type=”in_container” full_screen_row_position=”middle” scene_position=”center” text_color=”dark” text_align=”left” overlay_strength=”0.3″][vc_column column_padding=”no-extra-padding” column_padding_position=”all” background_color_opacity=”1″ background_hover_color_opacity=”1″ column_shadow=”none” width=”1/1″ tablet_text_alignment=”default” phone_text_alignment=”default” column_border_width=”none” column_border_style=”solid”][vc_column_text]\nSTAR TOUR – The 3st\n  \nSONNTAG – DOMENICA: 19-06-2016   –   LOUISIANA PER SQUADRE A 2 GIOCATORI\n  \nCON GIRO GASTRONOMICO\n  \n\n \nERGEBNISSE – RISULTATI:   BRUTTO/LORDO     NETTO \n  \n PROGRAMM & INFORMATIONEN STAR TOUR 2016  \n  \nA questa terza tappa della Star Tour giocheremo una Louisiana per squadre a 2 giocatori. Su 5 buche i partecipanti\nverranno sorpresi con specialità gastronomiche. \nLa quota d’iscrizione a questa gara è di 30 €. \n  \nPARTENZE:     STARTZEITEN – PARTENZE – PDF[/vc_column_text][/vc_column][/vc_row][vc_row type=”in_container” full_screen_row_position=”middle” scene_position=”center” text_color=”dark” text_align=”left” disable_element=”yes” overlay_strength=”0.3″][vc_column column_padding=”no-extra-padding” column_padding_position=”all” background_color_opacity=”1″ background_hover_color_opacity=”1″ column_shadow=”none” width=”1/1″ tablet_text_alignment=”default” phone_text_alignment=”default” column_border_width=”none” column_border_style=”solid”][vc_gallery type=”image_grid” layout=”4″ masonry_style=”true” gallery_style=”3″ load_in_animation=”fade_in_from_bottom” img_size=”large”][/vc_column][/vc_row]
URL:https://golfclubpetersberg.it/it/event/2016-star-tour-3/
LOCATION:Golfclub Petersberg\, Unterwinkl 5\, Petersberg\, 39050\, Italia
ORGANIZER;CN="Golfclub Petersberg":MAILTO:info@golfclubpetersberg.it
END:VEVENT
BEGIN:VEVENT
DTSTART;VALUE=DATE:20160625
DTEND;VALUE=DATE:20160626
DTSTAMP:20260420T065208
CREATED:20170731T132900Z
LAST-MODIFIED:20170731T132900Z
UID:5893-1466812800-1466899199@golfclubpetersberg.it
SUMMARY:LUCE PER IL MONDO - Licht Für die Welt
DESCRIPTION:[vc_row type=”in_container” full_screen_row_position=”middle” scene_position=”center” text_color=”dark” text_align=”left” overlay_strength=”0.3″][vc_column column_padding=”no-extra-padding” column_padding_position=”all” background_color_opacity=”1″ background_hover_color_opacity=”1″ column_shadow=”none” width=”1/1″ tablet_text_alignment=”default” phone_text_alignment=”default” column_border_width=”none” column_border_style=”solid”][vc_column_text]LUCE PER IL MONDO \n  \nERGEBNISSE   –   RISULTATI \nBRUTTO/LORDO    NETTO-1    NETTO-2    NETTO-3 \n  \nFoto: https://it-it.facebook.com/golfclubpetersberg/ \n  \n  \n   \n  \n  [/vc_column_text][/vc_column][/vc_row][vc_row type=”in_container” full_screen_row_position=”middle” scene_position=”center” text_color=”dark” text_align=”left” overlay_strength=”0.3″][vc_column column_padding=”no-extra-padding” column_padding_position=”all” background_color_opacity=”1″ background_hover_color_opacity=”1″ column_shadow=”none” width=”1/1″ tablet_text_alignment=”default” phone_text_alignment=”default” column_border_width=”none” column_border_style=”solid”][vc_gallery type=”image_grid” layout=”4″ masonry_style=”true” gallery_style=”3″ load_in_animation=”fade_in_from_bottom” img_size=”medium”][/vc_column][/vc_row]
URL:https://golfclubpetersberg.it/it/event/luce-mondo-licht-fuer-die-welt/
LOCATION:Golfclub Petersberg\, Unterwinkl 5\, Petersberg\, 39050\, Italia
ORGANIZER;CN="Golfclub Petersberg":MAILTO:info@golfclubpetersberg.it
END:VEVENT
END:VCALENDAR