BEGIN:VCALENDAR
VERSION:2.0
PRODID:-//GOLFCLUB PETERSBERG  - Golf in Alto Adige - ECPv6.15.20//NONSGML v1.0//EN
CALSCALE:GREGORIAN
METHOD:PUBLISH
X-WR-CALNAME:GOLFCLUB PETERSBERG  - Golf in Alto Adige
X-ORIGINAL-URL:https://golfclubpetersberg.it/it/
X-WR-CALDESC:Eventi per GOLFCLUB PETERSBERG  - Golf in Alto Adige
REFRESH-INTERVAL;VALUE=DURATION:PT1H
X-Robots-Tag:noindex
X-PUBLISHED-TTL:PT1H
BEGIN:VTIMEZONE
TZID:Europe/Rome
BEGIN:DAYLIGHT
TZOFFSETFROM:+0100
TZOFFSETTO:+0200
TZNAME:CEST
DTSTART:20150329T010000
END:DAYLIGHT
BEGIN:STANDARD
TZOFFSETFROM:+0200
TZOFFSETTO:+0100
TZNAME:CET
DTSTART:20151025T010000
END:STANDARD
BEGIN:DAYLIGHT
TZOFFSETFROM:+0100
TZOFFSETTO:+0200
TZNAME:CEST
DTSTART:20160327T010000
END:DAYLIGHT
BEGIN:STANDARD
TZOFFSETFROM:+0200
TZOFFSETTO:+0100
TZNAME:CET
DTSTART:20161030T010000
END:STANDARD
BEGIN:DAYLIGHT
TZOFFSETFROM:+0100
TZOFFSETTO:+0200
TZNAME:CEST
DTSTART:20170326T010000
END:DAYLIGHT
BEGIN:STANDARD
TZOFFSETFROM:+0200
TZOFFSETTO:+0100
TZNAME:CET
DTSTART:20171029T010000
END:STANDARD
END:VTIMEZONE
BEGIN:VEVENT
DTSTART;VALUE=DATE:20160702
DTEND;VALUE=DATE:20160703
DTSTAMP:20260420T051152
CREATED:20170731T093138Z
LAST-MODIFIED:20170731T093138Z
UID:6022-1467417600-1467503999@golfclubpetersberg.it
SUMMARY:STAR TOUR - FINALE
DESCRIPTION:[vc_row type=”in_container” full_screen_row_position=”middle” scene_position=”center” text_color=”dark” text_align=”left” overlay_strength=”0.3″][vc_column column_padding=”no-extra-padding” column_padding_position=”all” background_color_opacity=”1″ background_hover_color_opacity=”1″ column_shadow=”none” width=”1/1″ tablet_text_alignment=”default” phone_text_alignment=”default” column_border_width=”none” column_border_style=”solid”][vc_column_text]STAR TOUR – FINALE \nSamstag – Sabato\, 02-07-2016\n  \nSTABLEFORD – 3 categorie \n  \n \nERGEBNISSE – RISULTATI:\n\nBRUTTO-LORDO    NETTO-1    NETTO-2    NETTO-3  \n    STAR TOUR PARTY  c/o HOTEL CRISTAL – OBEREGGEN\n    Beginn – Inizio: 19.30\n  \n  \n                         \n                   \n  \nGara individuale stableford. La premiazione della giornata e quella della classifica generale avrà luogo dopo la grigliata all’Hotel Cristal. \nAlla festa della finale sono invitati TUTTI i soci del Gofl Club Petersberg\, e tutti i giocatori che hanno partecipato ad almeno una tappa della Star Tour. \nInizio: ore 19\,30 \n  \nChi avrà giocato almeno 3 gare della Star Tour partecipa automaticamente alla classifica generale “3 risultati di 4” della Star Tour. \nInoltre sono previsti diversi premi speciali per i giocatori che hanno partecipato ad almeno 3 gare Star Tour\, indipendentemente dal risultato conseguito.\n(NR viene registrato come “non giocato”). Per la classifica generale i risultati dei doppi contano come risultati singoli per tutti e due i giocatori\, verranno però ridotti a 3/4 dei punti e/o colpi. \nPer i vincitori della classifica generale ci saranno di nuovo bellissimi Week-End con albergo e volo in diverse cità europee. \n. \n\n\n\nPremi speciali\n  PREMIO “HEINZ FISCHNALLER”  signori e signore \nIn ogni gara Star Tour verranno premiati i due vincitori del premio speciale “Heinz Fischnaller”\, rispettivamente uno per signore ed uno per signori. I premiati saranno i giocatori che si trovano esattamente a metà della classifica netta. Per esempio: se giocano 101 giocatori\, il vincitore è il 51° (con 50 giocatori davanti e 50 giocatori dietro in classifica). Con 100 giocatori ci sono due giocatori a metà classifica\, il 50° ed il 51° con rispettivamente 49 giocatori davanti e 49 giocatori dietro in classifica. In questo caso il premio va al 50° (il giocatore migliore dei due)\, se però i due sono una signora ed un signore\, verranno premiati questi due. Altrimenti verrà premiato il 50° ed il secondo premio va al signore o alla signora (dipende se il 50° è una signora o un signore) che si trova immediatamente davanti nella classifica netta. \n     HOLE – IN – ONE\,  Nearest-to-the-pin: \nLa famiglia Parth della gioielleria PARTH di Bolzano mette a disposizione due orologi LONGINES\, rispettivamente uno per signore ed uno per signori.\nSe in una delle gare Star Tour 2016 un giocatore o una giocatrice gioca un hole in one alla buca 17\, avrà come premio questo orologio. Se ci sono più signore o più signori che hanno giocato un hole in one\, l’orologio verrà sorteggiato tra i signori e/o tra le signore.\nSe non ci fosse un hole in one\, l’orologio verrà assegnato al giocatore / giocatrice con il miglior NEAREST-TO-THE-PIN\, sempre signore e signori\, e sempre alla buca 17.\nI vincitori degli orologi devono essere personalmente presenti alla premiazione del 2 luglio presso l’Hotel Cristal per ritirare il premio; altrimenti l’orologio verrà estratto tra le signore o tra i signori presenti alla premiazione che avranno partecipato ad almeno 3 tappe della Star Tour 2016 (NR viene conteggiato come “non giocato”).[/vc_column_text][/vc_column][/vc_row][vc_row type=”in_container” full_screen_row_position=”middle” scene_position=”center” text_color=”dark” text_align=”left” overlay_strength=”0.3″][vc_column column_padding=”no-extra-padding” column_padding_position=”all” background_color_opacity=”1″ background_hover_color_opacity=”1″ column_shadow=”none” width=”1/1″ tablet_text_alignment=”default” phone_text_alignment=”default” column_border_width=”none” column_border_style=”solid”][vc_gallery type=”image_grid” images=”1879\,1878\,1877\,1876\,1875\,1874\,1873\,1872\,1871\,1870\,1869\,1868\,1867\,1866\,1865\,1864\,1863\,1862\,1861\,1860\,1859\,1858\,1857\,1856\,1855\,1854\,1853\,1852\,1851\,1850\,1849\,1848\,1847\,1846\,1845\,1844\,1843\,1842\,1841\,1840\,1839\,1838\,1837\,1836\,1835\,1834\,1833\,1832\,1831\,1830\,1829\,1828\,1827\,1826\,1825\,1824\,1823\,1822\,1821\,1820\,1819\,1818\,1817\,1816\,1815\,1814\,1813\,1812\,1811\,1810\,1809\,1808\,1807\,1806\,1805\,1804\,1803\,1802\,1801\,1800\,1799\,1798\,1797\,1796\,1795\,1794\,1793\,1792\,1791\,1790\,1789\,1788\,1787\,1786\,1785\,1784\,1783\,1782\,1781″ layout=”4″ masonry_style=”true” gallery_style=”3″ load_in_animation=”fade_in_from_bottom” img_size=”medium”][/vc_column][/vc_row]
URL:https://golfclubpetersberg.it/it/event/star-tour-finale/
LOCATION:Golfclub Petersberg\, Unterwinkl 5\, Petersberg\, 39050\, Italia
ORGANIZER;CN="Golfclub Petersberg":MAILTO:info@golfclubpetersberg.it
END:VEVENT
BEGIN:VEVENT
DTSTART;VALUE=DATE:20160703
DTEND;VALUE=DATE:20160704
DTSTAMP:20260420T051152
CREATED:20170731T133208Z
LAST-MODIFIED:20170731T133208Z
UID:6018-1467504000-1467590399@golfclubpetersberg.it
SUMMARY:INTERCLUB  GC DOLOMITI  -  GC PETERSBERG
DESCRIPTION:[vc_row type=”in_container” full_screen_row_position=”middle” scene_position=”center” text_color=”dark” text_align=”left” overlay_strength=”0.3″][vc_column column_padding=”no-extra-padding” column_padding_position=”all” background_color_opacity=”1″ background_hover_color_opacity=”1″ column_shadow=”none” width=”1/1″ tablet_text_alignment=”default” phone_text_alignment=”default” column_border_width=”none” column_border_style=”solid”][vc_column_text]\nINTERCLUB  GC DOLOMITI  –  GC PETERSBERG\n  \n Ergebnisse – Risultati Petersberg: \nBrutto/Lordo    Netto-1    Netto-2    Netto gesamt / Netto generale \n \nINTERCLUB 2016  GC. PETERSBERG  vs. GC. DOLOMITI \n  \nL’interclub tra il Golf Club Dolomiti e Golf Club Petersberg\, è riservato ai giocatori e giocatrici iscritti e tesserati in uno dei due circoli in questione e si articola su due prove: \n–        domenica 3 luglio 2016 – incontro presso il Golf Petersberg \n–        sabato  17 settembre 2016 – incontro presso il Golf Dolomiti\n \nOgni gara sarà svolta con formula stableford 2 categorie ( 0 – 18 / 19 – 36). \nPremi di giornata: 1°\, 2°\, netto per categoria\, 1° lordo. \nTrofeo “Interclub 2016”  alla squadra vincente. \n  \nClassifica a squadre: \nVerranno sommati i primi sei risultati netti e i primi sei risultati lordi di ogni circolo nelle singole prove. Il numero di partecipanti per squadra non è limitato. \nL’ Interclub 2016 sarà vinto dal Circolo che totalizzerà più punti sommando i risultati a squadre delle due prove. In caso di parità verrà preso in considerazione\nil miglior risultato in una delle prove in caso di ulteriore parità ogni circolo dovrà nominare 1 (uno) giocatore per la disputa di un immediato spareggio da effettuarsi\nsulle buche 1 e 6  dell’ultimo percorso giocato con formula sudden death. \nLe iscrizioni dovranno pervenire alla Segreteria del Circolo che organizza la competizione il giorno precedente la gara entro le ore 12\, esclusivamente dai Circoli di appartenenza. \nLa quota di iscrizione comprensiva di green fee è fissata a € 60\,00 per giocatore e a € 30\,00 per giocatore junior e dovrà essere versata prima della gara. \nI giocatori del circolo di casa pagheranno solo la relativa quota di iscrizione gara. \nLa quota d’iscrizione per i soci del circolo ospitante è di 20\,00 € \nAl termine di ogni incontro\, cena per tutti i partecipanti offerto dal circolo ospitante. \nIl Comitato organizzatore si riserva la facoltà di apportare modifiche al presente regolamento qualora se ne presenti la necessità. \n Il CdG. Le Comm.Sportive dei due Circoli[/vc_column_text][/vc_column][/vc_row][vc_row type=”in_container” full_screen_row_position=”middle” scene_position=”center” text_color=”dark” text_align=”left” overlay_strength=”0.3″][vc_column column_padding=”no-extra-padding” column_padding_position=”all” background_color_opacity=”1″ background_hover_color_opacity=”1″ column_shadow=”none” width=”1/1″ tablet_text_alignment=”default” phone_text_alignment=”default” column_border_width=”none” column_border_style=”solid”][vc_gallery type=”image_grid” images=”2297\,2298\,2299\,2300\,2301\,2302\,2303\,2304\,2305\,2306\,2307\,2308\,2309\,2310\,2311″ layout=”4″ masonry_style=”true” gallery_style=”3″ load_in_animation=”fade_in_from_bottom” img_size=”medium”][/vc_column][/vc_row]
URL:https://golfclubpetersberg.it/it/event/interclub-gc-dolomiti-gc-petersberg/
LOCATION:Golfclub Petersberg\, Unterwinkl 5\, Petersberg\, 39050\, Italia
ORGANIZER;CN="Golfclub Petersberg":MAILTO:info@golfclubpetersberg.it
END:VEVENT
BEGIN:VEVENT
DTSTART;VALUE=DATE:20160709
DTEND;VALUE=DATE:20160710
DTSTAMP:20260420T051152
CREATED:20170731T130405Z
LAST-MODIFIED:20170731T130405Z
UID:6020-1468022400-1468108799@golfclubpetersberg.it
SUMMARY:MIRÒ GOLF TROPHY 2016
DESCRIPTION:[vc_row type=”in_container” full_screen_row_position=”middle” scene_position=”center” text_color=”dark” text_align=”left” overlay_strength=”0.3″][vc_column column_padding=”no-extra-padding” column_padding_position=”all” background_color_opacity=”1″ background_hover_color_opacity=”1″ column_shadow=”none” width=”1/1″ tablet_text_alignment=”default” phone_text_alignment=”default” column_border_width=”none” column_border_style=”solid”][vc_column_text]\nMIRÒ GOLF TROPHY 2016\n18 HOLES STABLEFORD – 3 CAT \nSTARTZEITEN – PARTENZE \nhttps://www.dolomitigolfcup.it/dati/category/circuito-2016 \n\n  \n18 HOLES STABLEFORD – 3 CAT \nhttps://www.dolomitigolfcup.it/dati/category/circuito-2016 \n \nERGEBNISSE – RISULTATI: \nBRUTTO – LORDO    NETTO-1    NETTO-2    NETTO-3[/vc_column_text][/vc_column][/vc_row][vc_row type=”in_container” full_screen_row_position=”middle” scene_position=”center” text_color=”dark” text_align=”left” overlay_strength=”0.3″][vc_column column_padding=”no-extra-padding” column_padding_position=”all” background_color_opacity=”1″ background_hover_color_opacity=”1″ column_shadow=”none” width=”1/1″ tablet_text_alignment=”default” phone_text_alignment=”default” column_border_width=”none” column_border_style=”solid”][vc_gallery type=”image_grid” images=”2242\,2243\,2244\,2245\,2246\,2247\,2248\,2249\,2250\,2251\,2252\,2253\,2254\,2255\,2256\,2257\,2258\,2259\,2260″ layout=”4″ masonry_style=”true” gallery_style=”3″ load_in_animation=”fade_in_from_bottom” img_size=”medium”][/vc_column][/vc_row]
URL:https://golfclubpetersberg.it/it/event/miro-golf-trophy-2016/
LOCATION:Golfclub Petersberg\, Unterwinkl 5\, Petersberg\, 39050\, Italia
ORGANIZER;CN="Golfclub Petersberg":MAILTO:info@golfclubpetersberg.it
END:VEVENT
BEGIN:VEVENT
DTSTART;VALUE=DATE:20160710
DTEND;VALUE=DATE:20160711
DTSTAMP:20260420T051152
CREATED:20170731T134749Z
LAST-MODIFIED:20170731T134749Z
UID:5989-1468108800-1468195199@golfclubpetersberg.it
SUMMARY:AUDI QUATTRO CUP - INCAR BOZEN
DESCRIPTION:[vc_row type=”in_container” full_screen_row_position=”middle” scene_position=”center” text_color=”dark” text_align=”left” overlay_strength=”0.3″][vc_column column_padding=”no-extra-padding” column_padding_position=”all” background_color_opacity=”1″ background_hover_color_opacity=”1″ column_shadow=”none” width=”1/1″ tablet_text_alignment=”default” phone_text_alignment=”default” column_border_width=”none” column_border_style=”solid”][vc_column_text]\nAUDI QUATTRO CUP – INCAR BOZEN\nSONNTAG – DOMENICA\,  10-07-2016 \nERGEBNISSE – RISULTATI:    BRUTTO/LORDO    NETTO \nInCar Bozen: https://www.incar.bz.it/de/home \n   \n \n \n  \n \nRegolamento Audi quattro Cup 2016 \nLa manifestazione\nLe singole gare del torneo hanno un’unica denominazione\, “Audi quattro Cup”\, seguita dal nome del Concessionario\norganizzatore (per esempio “Audi quattro Cup – Walter Bianchi S.p.A.”). Ogni Concessionario Audi organizzerà questo torneo in\ncollaborazione con il Golf Club prescelto; è possibile la realizzazione di una gara in comune tra più Concessionarie\, al massimo\ntre.\nOgni Golf Club può ospitare una sola gara e diritto di precedenza va al Concessionario che aveva già organizzato nelle edizioni\npassate una gara.\nIl regolamento\nLa gara Audi quattro Cup si svolge secondo le modalità del gioco Greensome Stableford 18 buche\, categoria unica\,\nriservata ai maggiorenni. Hcp massimo di gioco limitata a 36 sia per gli uomini che per le donne\, somma di hcp\nmassima dei due giocatori limitata a 56\, qualora la somma fosse superiore si procederà abbassando il giocatore\npiù alto di hcp. La differenza massima tra gli hcp di gioco dei due giocatori non dovrà essere superiore a 20\, la\ndifferenza di 20 è tassativa\, non si può abbassare l’hcp di gioco di alcun giocatore.\nSi applicano le regole del Royal & Ancient Golf Club di St. Andrews e le regole in essere presso il Golf Club ospite la gara.\nAll’inizio di ogni buca saranno tutti e quattro i componenti delle due coppie\, tra loro avversarie\, a giocare il primo colpo\,\nutilizzando quattro palline. Dopodiché\, ogni coppia sceglierà il colpo migliore ed i due componenti si alterneranno uno all’altro\nnel gioco con un’unica pallina fino a buca ultimata.\nAlla gara possono partecipare tutti i giocatori dilettanti italiani o stranieri purché tesserati presso le rispettive Federazioni (soci\ndel Golf Club ove ha luogo la gara\, ospiti giocatori invitati dal Concessionario organizzatore\, giocatori esterni). L’accesso alla\nfinale nazionale italiana è riservato ai soli giocatori italiani o stranieri\, residenti in Italia e tesserati presso la\nFIG. Il numero ideale di partecipanti è fissato in 70 squadre\, ciascuna composta di 2 giocatori/trici. Ai fini della classifica finale\nvalgono il miglior punteggio Netto realizzato ed il miglior punteggio Lordo realizzato.\nTutte le coppie che in ogni singola gara avranno realizzato il miglior punteggio netto e tutte le coppie che avranno realizzato il\nmiglior punteggio lordo della classifica finale accederanno di diritto alla Finale Nazionale. Ai fini della qualificazione per la finale\,\nè valida la prima qualifica ottenuta. In caso di impossibilità di uno od entrambi i finalisti a partecipare alla Finale Nazionale\, non\nè prevista alcuna sostituzione della coppia. Nel caso in cui uno od entrambi i membri della prima coppia netto e/o\nprima coppia lordo della tappa di qualifica abbiano già vinto l’accesso ad una Finale Nazionale\, potranno\nprendervi parte nuovamente solo dopo 1 anno dall’ultima partecipazione e/o qualifica; in tal caso la coppia verrà\nsostituita da quella successiva in classifica (esempio: giocatori qualificati già nel 2015\, prossimo accesso alla\nFinale Nazionale nel 2017).\nLa prima coppia netto e la prima coppia lordo della Finale Nazionale accederanno di diritto alla Finale Mondiale.\nNel caso in cui uno od entrambi i membri della prima coppia netto e/o prima coppia lordo della Finale Nazionale\nabbiano già partecipato ad una Finale Mondiale\, NON POTRANNO PIU’ PRENDERVI PARTE; in tal caso la coppia\nverrà sostituita da quella successiva in base alla classifica della Finale Nazionale.\nI premi previsti\, non cumulabili\, per ogni singola gara sono i seguenti:\n1° coppia classificata netto\n1° coppia Lordo\n2° coppia classificata netto\n3° coppia classificata netto\n1° coppia possessore Audi (almeno uno dei due giocatori della coppia)\nCon riferimento alla circolare n° 27 del 22 dicembre 2015 pubblicata dalla Federazione Italiana Golf\, si informa\nche nelle gare del circuito Audi quattro Cup\, verrà mantenuto l’ordine di assegnazione premi e criterio di\nqualifica alla Finale Nazionale e alla Finale Mondiale come nei paragrafi sopra menzionati: la prima coppia netto\ne la prima coppia lordo come da regolamento mondiale Audi quattro Cup che da priorità al premio netto.\nPer quanto concerne l’assegnazione dei premi per la 1° coppia netto\, la 1° coppia lordo\, la 2° e 3° coppia netto e la 1° coppia\npossessore Audi di ogni singola gara si ricorda che è compito del Golf Club ospitante. Audi Italia\, l’organizzazione e la\nConcessionaria sponsor\, declinano qualsiasi responsabilità in caso di errata assegnazione!\nLe date\nLe gare della Audi quattro Cup 2016 si svolgeranno nel periodo 3 aprile e 28 agosto 2016.\nLa Finale Nazionale inizierà venerdì 9 settembre con la cena di gala e proseguirà con la gara sabato 10 settembre\n2016 presso il Royal Park I Roveri – Fiano Torinese\, Torino.\nLa Finale Nazionale è riservata ai soli finalisti\, non sono previsti accompagnatori.\nLa Finale Mondiale si terrà dal 6 al 10 ottobre 2016 in Spagna\, Barcellona presso il Real Club de Golf El Prat.\nSaranno invitate da Audi AG la prima coppia netto e la prima coppia lordo della Finale Nazionale. \nhttps://audiquattrocup.com/de/audi-quattro-cup/turnierregeln[/vc_column_text][/vc_column][/vc_row][vc_row type=”in_container” full_screen_row_position=”middle” scene_position=”center” text_color=”dark” text_align=”left” overlay_strength=”0.3″][vc_column column_padding=”no-extra-padding” column_padding_position=”all” background_color_opacity=”1″ background_hover_color_opacity=”1″ column_shadow=”none” width=”1/1″ tablet_text_alignment=”default” phone_text_alignment=”default” column_border_width=”none” column_border_style=”solid”][vc_gallery type=”image_grid” images=”2359\,2360\,2361\,2362\,2363\,2364\,2365\,2366\,2367\,2368\,2369\,2370\,2371\,2372\,2373\,2374\,2375\,2376\,2377\,2378\,2379\,2380\,2381″ layout=”4″ masonry_style=”true” gallery_style=”3″ load_in_animation=”fade_in_from_bottom” img_size=”medium”][/vc_column][/vc_row]
URL:https://golfclubpetersberg.it/it/event/audi-quattro-cup-incar-bozen/
LOCATION:Golfclub Petersberg\, Unterwinkl 5\, Petersberg\, 39050\, Italia
ORGANIZER;CN="Golfclub Petersberg":MAILTO:info@golfclubpetersberg.it
END:VEVENT
BEGIN:VEVENT
DTSTART;VALUE=DATE:20160717
DTEND;VALUE=DATE:20160718
DTSTAMP:20260420T051152
CREATED:20170731T125426Z
LAST-MODIFIED:20170731T125426Z
UID:5991-1468713600-1468799999@golfclubpetersberg.it
SUMMARY:CLEVELAND - SRIXON - XXIO GOLF CUP TROPHY
DESCRIPTION:[vc_row type=”in_container” full_screen_row_position=”middle” scene_position=”center” text_color=”dark” text_align=”left” overlay_strength=”0.3″][vc_column column_padding=”no-extra-padding” column_padding_position=”all” background_color_opacity=”1″ background_hover_color_opacity=”1″ column_shadow=”none” width=”1/1″ tablet_text_alignment=”default” phone_text_alignment=”default” column_border_width=”none” column_border_style=”solid”][vc_column_text]\nCLEVELAND – SRIXON – XXIO GOLF CUP\n  \nSonntag – Domenica\, 17-07-2016\n\n \nBRUTTO – LORDO    NETTO-1    NETTO-2    NETTO-3[/vc_column_text][/vc_column][/vc_row][vc_row type=”in_container” full_screen_row_position=”middle” scene_position=”center” text_color=”dark” text_align=”left” overlay_strength=”0.3″][vc_column column_padding=”no-extra-padding” column_padding_position=”all” background_color_opacity=”1″ background_hover_color_opacity=”1″ column_shadow=”none” width=”1/1″ tablet_text_alignment=”default” phone_text_alignment=”default” column_border_width=”none” column_border_style=”solid”][vc_gallery type=”image_grid” images=”2197\,2198\,2199\,2200\,2201\,2202\,2203\,2204\,2205\,2206\,2207\,2208\,2209\,2210″ layout=”4″ masonry_style=”true” gallery_style=”3″ load_in_animation=”fade_in_from_bottom” img_size=”medium”][/vc_column][/vc_row]
URL:https://golfclubpetersberg.it/it/event/cleveland-srixon-xxio-golf-cup-trophy/
LOCATION:Golfclub Petersberg\, Unterwinkl 5\, Petersberg\, 39050\, Italia
ORGANIZER;CN="Golfclub Petersberg":MAILTO:info@golfclubpetersberg.it
END:VEVENT
BEGIN:VEVENT
DTSTART;VALUE=DATE:20160722
DTEND;VALUE=DATE:20160723
DTSTAMP:20260420T051152
CREATED:20170731T133308Z
LAST-MODIFIED:20170731T133308Z
UID:6003-1469145600-1469231999@golfclubpetersberg.it
SUMMARY:HOTEL CRISTAL GOLF TROPHY The Chef's on the green
DESCRIPTION:[vc_row type=”in_container” full_screen_row_position=”middle” scene_position=”center” text_color=”dark” text_align=”left” overlay_strength=”0.3″][vc_column column_padding=”no-extra-padding” column_padding_position=”all” background_color_opacity=”1″ background_hover_color_opacity=”1″ column_shadow=”none” width=”1/1″ tablet_text_alignment=”default” phone_text_alignment=”default” column_border_width=”none” column_border_style=”solid”][vc_column_text]\nHOTEL CRISTAL GOLF TROPHY\nThe Chef’s on the green\nFreitag – Venerdì:  22-07-2016\n \nERGEBNISSE NETTO – RISULTATI NETTO \n  \n  \nERGEBNISSE BRUTTO – RISULTATI LORDO \n  \n \n \n\nLouisiana per squadre a 2 giocatori. Su diverse buche la squadra dell’Hotel Cristal Vi aspetta con delle sorprese\ngastronomiche.[/vc_column_text][/vc_column][/vc_row][vc_row type=”in_container” full_screen_row_position=”middle” scene_position=”center” text_color=”dark” text_align=”left” overlay_strength=”0.3″][vc_column column_padding=”no-extra-padding” column_padding_position=”all” background_color_opacity=”1″ background_hover_color_opacity=”1″ column_shadow=”none” width=”1/1″ tablet_text_alignment=”default” phone_text_alignment=”default” column_border_width=”none” column_border_style=”solid”][vc_gallery type=”image_grid” layout=”4″ masonry_style=”true” gallery_style=”3″ load_in_animation=”fade_in_from_bottom” img_size=”medium”][/vc_column][/vc_row]
URL:https://golfclubpetersberg.it/it/event/hotel-cristal-golf-trophy-the-chefs-the-green/
LOCATION:Golfclub Petersberg\, Unterwinkl 5\, Petersberg\, 39050\, Italia
ORGANIZER;CN="Golfclub Petersberg":MAILTO:info@golfclubpetersberg.it
END:VEVENT
BEGIN:VEVENT
DTSTART;VALUE=DATE:20160724
DTEND;VALUE=DATE:20160725
DTSTAMP:20260420T051152
CREATED:20170731T133931Z
LAST-MODIFIED:20170731T133931Z
UID:6001-1469318400-1469404799@golfclubpetersberg.it
SUMMARY:Fineco Golf Trophy 2016
DESCRIPTION:[vc_row type=”in_container” full_screen_row_position=”middle” scene_position=”center” text_color=”dark” text_align=”left” overlay_strength=”0.3″][vc_column column_padding=”no-extra-padding” column_padding_position=”all” background_color_opacity=”1″ background_hover_color_opacity=”1″ column_shadow=”none” width=”1/1″ tablet_text_alignment=”default” phone_text_alignment=”default” column_border_width=”none” column_border_style=”solid”][vc_column_text] \n  \nFineco Golf Trophy 2016 \n  \nStableford – 3 Cat. \n  \nStableford – 3 Cat. \n \nBRUTTO – LORDO    NETTO-1    NETTO-2    NETTO-3 \nNach dem Turnier sind alle Teilnehmer zu einem schönen Abendessen im Clubhaus eingeladen. \nDopo la gara tutti i partecipanti sono invitati ad una bella cena in Clubhouse.[/vc_column_text][/vc_column][/vc_row][vc_row type=”in_container” full_screen_row_position=”middle” scene_position=”center” text_color=”dark” text_align=”left” overlay_strength=”0.3″][vc_column column_padding=”no-extra-padding” column_padding_position=”all” background_color_opacity=”1″ background_hover_color_opacity=”1″ column_shadow=”none” width=”1/1″ tablet_text_alignment=”default” phone_text_alignment=”default” column_border_width=”none” column_border_style=”solid”][vc_gallery type=”image_grid” layout=”4″ masonry_style=”true” gallery_style=”3″ load_in_animation=”fade_in_from_bottom” img_size=”medium”][/vc_column][/vc_row]
URL:https://golfclubpetersberg.it/it/event/fineco-golf-trophy-2016/
LOCATION:Golfclub Petersberg\, Unterwinkl 5\, Petersberg\, 39050\, Italia
ORGANIZER;CN="Golfclub Petersberg":MAILTO:info@golfclubpetersberg.it
END:VEVENT
BEGIN:VEVENT
DTSTART;VALUE=DATE:20160728
DTEND;VALUE=DATE:20160729
DTSTAMP:20260420T051152
CREATED:20170731T134927Z
LAST-MODIFIED:20170731T134927Z
UID:6009-1469664000-1469750399@golfclubpetersberg.it
SUMMARY:AGIS Golf Trophy TROFEO NORD-EST - STABLEFORD
DESCRIPTION:[vc_row type=”in_container” full_screen_row_position=”middle” scene_position=”center” text_color=”dark” text_align=”left” overlay_strength=”0.3″][vc_column column_padding=”no-extra-padding” column_padding_position=”all” background_color_opacity=”1″ background_hover_color_opacity=”1″ column_shadow=”none” width=”1/1″ tablet_text_alignment=”default” phone_text_alignment=”default” column_border_width=”none” column_border_style=”solid”][vc_column_text]\nTROFEO NORD-EST     –     STABLEFORD\n \nBRUTTO – LORDO     NETTO-1    NETTO-2     NETTO-3 \nSTARTLISTE – PDF[/vc_column_text][/vc_column][/vc_row][vc_row type=”in_container” full_screen_row_position=”middle” scene_position=”center” text_color=”dark” text_align=”left” overlay_strength=”0.3″][vc_column column_padding=”no-extra-padding” column_padding_position=”all” background_color_opacity=”1″ background_hover_color_opacity=”1″ column_shadow=”none” width=”1/1″ tablet_text_alignment=”default” phone_text_alignment=”default” column_border_width=”none” column_border_style=”solid”][vc_gallery type=”image_grid” layout=”4″ masonry_style=”true” gallery_style=”3″ load_in_animation=”fade_in_from_bottom” img_size=”medium”][/vc_column][/vc_row]
URL:https://golfclubpetersberg.it/it/event/agis-golf-trophy-trofeo-nord-est-stableford/
LOCATION:Golfclub Petersberg\, Unterwinkl 5\, Petersberg\, 39050\, Italia
ORGANIZER;CN="Golfclub Petersberg":MAILTO:info@golfclubpetersberg.it
END:VEVENT
BEGIN:VEVENT
DTSTART;VALUE=DATE:20160731
DTEND;VALUE=DATE:20160801
DTSTAMP:20260420T051152
CREATED:20170731T093941Z
LAST-MODIFIED:20170731T093941Z
UID:6011-1469923200-1470009599@golfclubpetersberg.it
SUMMARY:TROPHÄE DES HYPERBARISCHEN ZENTRUMS BOZEN   TROFEO CENTRO IPERBARICO DI BOLZANO
DESCRIPTION:[vc_row type=”in_container” full_screen_row_position=”middle” scene_position=”center” text_color=”dark” text_align=”left” overlay_strength=”0.3″][vc_column column_padding=”no-extra-padding” column_padding_position=”all” background_color_opacity=”1″ background_hover_color_opacity=”1″ column_shadow=”none” width=”1/1″ tablet_text_alignment=”default” phone_text_alignment=”default” column_border_width=”none” column_border_style=”solid”][vc_column_text]\nTROPHÄE DES HYPERBARISCHEN ZENTRUMS BOZEN\nTROFEO CENTRO IPERBARICO DI BOLZANO\n  \n  \n \n  \nSTABLEFORD – 3 Cat. \nCena in Clubhouse subito dopo la premiazione. \n[/vc_column_text][/vc_column][/vc_row][vc_row type=”in_container” full_screen_row_position=”middle” scene_position=”center” text_color=”dark” text_align=”left” disable_element=”yes” overlay_strength=”0.3″][vc_column column_padding=”no-extra-padding” column_padding_position=”all” background_color_opacity=”1″ background_hover_color_opacity=”1″ column_shadow=”none” width=”1/1″ tablet_text_alignment=”default” phone_text_alignment=”default” column_border_width=”none” column_border_style=”solid”][vc_gallery type=”image_grid” layout=”4″ masonry_style=”true” gallery_style=”3″ load_in_animation=”fade_in_from_bottom” img_size=”medium”][/vc_column][/vc_row]
URL:https://golfclubpetersberg.it/it/event/trophaee-des-hyperbarischen-zentrums-bozen-trofeo-centro-iperbarico-bolzano/
LOCATION:Golfclub Petersberg\, Unterwinkl 5\, Petersberg\, 39050\, Italia
ORGANIZER;CN="Golfclub Petersberg":MAILTO:info@golfclubpetersberg.it
END:VEVENT
END:VCALENDAR