BEGIN:VCALENDAR
VERSION:2.0
PRODID:-//GOLFCLUB PETERSBERG  - Golf in Alto Adige - ECPv6.15.20//NONSGML v1.0//EN
CALSCALE:GREGORIAN
METHOD:PUBLISH
X-ORIGINAL-URL:https://golfclubpetersberg.it/it/
X-WR-CALDESC:Eventi per GOLFCLUB PETERSBERG  - Golf in Alto Adige
REFRESH-INTERVAL;VALUE=DURATION:PT1H
X-Robots-Tag:noindex
X-PUBLISHED-TTL:PT1H
BEGIN:VTIMEZONE
TZID:Europe/Rome
BEGIN:DAYLIGHT
TZOFFSETFROM:+0100
TZOFFSETTO:+0200
TZNAME:CEST
DTSTART:20150329T010000
END:DAYLIGHT
BEGIN:STANDARD
TZOFFSETFROM:+0200
TZOFFSETTO:+0100
TZNAME:CET
DTSTART:20151025T010000
END:STANDARD
BEGIN:DAYLIGHT
TZOFFSETFROM:+0100
TZOFFSETTO:+0200
TZNAME:CEST
DTSTART:20160327T010000
END:DAYLIGHT
BEGIN:STANDARD
TZOFFSETFROM:+0200
TZOFFSETTO:+0100
TZNAME:CET
DTSTART:20161030T010000
END:STANDARD
BEGIN:DAYLIGHT
TZOFFSETFROM:+0100
TZOFFSETTO:+0200
TZNAME:CEST
DTSTART:20170326T010000
END:DAYLIGHT
BEGIN:STANDARD
TZOFFSETFROM:+0200
TZOFFSETTO:+0100
TZNAME:CET
DTSTART:20171029T010000
END:STANDARD
END:VTIMEZONE
BEGIN:VEVENT
DTSTART;VALUE=DATE:20160904
DTEND;VALUE=DATE:20160905
DTSTAMP:20260420T014426
CREATED:20170731T133347Z
LAST-MODIFIED:20170731T133347Z
UID:5985-1472947200-1473033599@golfclubpetersberg.it
SUMMARY:HICKORY GOLF TROPHY
DESCRIPTION:[vc_row type=”in_container” full_screen_row_position=”middle” scene_position=”center” text_color=”dark” text_align=”left” overlay_strength=”0.3″][vc_column column_padding=”no-extra-padding” column_padding_position=”all” background_color_opacity=”1″ background_hover_color_opacity=”1″ column_shadow=”none” width=”1/1″ tablet_text_alignment=”default” phone_text_alignment=”default” column_border_width=”none” column_border_style=”solid”][vc_column_text]\nHICKORY GOLF TROPHY\nStableford – 3 Cat. \nErgebnisse – Risultati: \nBrutto – Lordo    Netto-1    Netto-2    Netto-3 \n[/vc_column_text][/vc_column][/vc_row][vc_row type=”in_container” full_screen_row_position=”middle” scene_position=”center” text_color=”dark” text_align=”left” overlay_strength=”0.3″][vc_column column_padding=”no-extra-padding” column_padding_position=”all” background_color_opacity=”1″ background_hover_color_opacity=”1″ column_shadow=”none” width=”1/1″ tablet_text_alignment=”default” phone_text_alignment=”default” column_border_width=”none” column_border_style=”solid”][vc_gallery type=”image_grid” layout=”4″ masonry_style=”true” gallery_style=”3″ load_in_animation=”fade_in_from_bottom” img_size=”medium”][/vc_column][/vc_row]
URL:https://golfclubpetersberg.it/it/event/hickory-golf-trophy/
LOCATION:Golfclub Petersberg\, Unterwinkl 5\, Petersberg\, 39050\, Italia
ORGANIZER;CN="Golfclub Petersberg":MAILTO:info@golfclubpetersberg.it
END:VEVENT
BEGIN:VEVENT
DTSTART;VALUE=DATE:20160915
DTEND;VALUE=DATE:20160916
DTSTAMP:20260420T014426
CREATED:20170731T130044Z
LAST-MODIFIED:20170731T130044Z
UID:5987-1473897600-1473983999@golfclubpetersberg.it
SUMMARY:NUSSBAUMER GOLF TROPHY
DESCRIPTION:[vc_row type=”in_container” full_screen_row_position=”middle” scene_position=”center” text_color=”dark” text_align=”left” overlay_strength=”0.3″][vc_column column_padding=”no-extra-padding” column_padding_position=”all” background_color_opacity=”1″ background_hover_color_opacity=”1″ column_shadow=”none” width=”1/1″ tablet_text_alignment=”default” phone_text_alignment=”default” column_border_width=”none” column_border_style=”solid”][vc_column_text]\nDonnerstag – Giovedì\, 15.09.2016\n \nErgebnisse – Risultati: \nBrutto/Lordo    Netto-1    Netto-2[/vc_column_text][/vc_column][/vc_row][vc_row type=”in_container” full_screen_row_position=”middle” scene_position=”center” text_color=”dark” text_align=”left” overlay_strength=”0.3″][vc_column column_padding=”no-extra-padding” column_padding_position=”all” background_color_opacity=”1″ background_hover_color_opacity=”1″ column_shadow=”none” width=”1/1″ tablet_text_alignment=”default” phone_text_alignment=”default” column_border_width=”none” column_border_style=”solid”][vc_gallery type=”image_grid” layout=”4″ masonry_style=”true” gallery_style=”3″ load_in_animation=”fade_in_from_bottom” img_size=”medium”][/vc_column][/vc_row]
URL:https://golfclubpetersberg.it/it/event/nussbaumer-golf-trophy/
LOCATION:Golfclub Petersberg\, Unterwinkl 5\, Petersberg\, 39050\, Italia
ORGANIZER;CN="Golfclub Petersberg":MAILTO:info@golfclubpetersberg.it
END:VEVENT
BEGIN:VEVENT
DTSTART;VALUE=DATE:20160917
DTEND;VALUE=DATE:20160918
DTSTAMP:20260420T014426
CREATED:20170731T134340Z
LAST-MODIFIED:20170731T134340Z
UID:5981-1474070400-1474156799@golfclubpetersberg.it
SUMMARY:Die Zeit Golf Trophy
DESCRIPTION:[vc_row type=”in_container” full_screen_row_position=”middle” scene_position=”center” text_color=”dark” text_align=”left” overlay_strength=”0.3″][vc_column column_padding=”no-extra-padding” column_padding_position=”all” background_color_opacity=”1″ background_hover_color_opacity=”1″ column_shadow=”none” width=”1/1″ tablet_text_alignment=”default” phone_text_alignment=”default” column_border_width=”none” column_border_style=”solid”][vc_column_text] \nPROGRAMM \nInternetseite des Veranstalters: \n  \nhttps://convent.de/de/veranstaltungen/zeit-events/zeit-golf-trophy-2/[/vc_column_text][/vc_column][/vc_row][vc_row type=”in_container” full_screen_row_position=”middle” scene_position=”center” text_color=”dark” text_align=”left” overlay_strength=”0.3″][vc_column column_padding=”no-extra-padding” column_padding_position=”all” background_color_opacity=”1″ background_hover_color_opacity=”1″ column_shadow=”none” width=”1/1″ tablet_text_alignment=”default” phone_text_alignment=”default” column_border_width=”none” column_border_style=”solid”][vc_gallery type=”image_grid” layout=”4″ masonry_style=”true” gallery_style=”3″ load_in_animation=”fade_in_from_bottom” img_size=”medium”][/vc_column][/vc_row]
URL:https://golfclubpetersberg.it/it/event/die-zeit-golf-trophy/
LOCATION:Golfclub Petersberg\, Unterwinkl 5\, Petersberg\, 39050\, Italia
ORGANIZER;CN="Golfclub Petersberg":MAILTO:info@golfclubpetersberg.it
END:VEVENT
BEGIN:VEVENT
DTSTART;VALUE=DATE:20160918
DTEND;VALUE=DATE:20160919
DTSTAMP:20260420T014426
CREATED:20170731T134428Z
LAST-MODIFIED:20170731T134428Z
UID:5983-1474156800-1474243199@golfclubpetersberg.it
SUMMARY:CLUBMEISTERSCHAFT CAMPIONATO SOCIALE
DESCRIPTION:[vc_row type=”in_container” full_screen_row_position=”middle” scene_position=”center” text_color=”dark” text_align=”left” overlay_strength=”0.3″][vc_column column_padding=”no-extra-padding” column_padding_position=”all” background_color_opacity=”1″ background_hover_color_opacity=”1″ column_shadow=”none” width=”1/1″ tablet_text_alignment=”default” phone_text_alignment=”default” column_border_width=”none” column_border_style=”solid”][vc_column_text]\nCLUBMEISTERSCHAFT\nCAMPIONATO SOCIALE\nSonntag – Domenica\, 18.09.2016 \nErgebnisse – Risultati: \nBrutto/Lordo-1   Brutto/Lordo-2   Netto-1   Netto-2   Netto-3  \nClubmeister – Campioni sociali 2016 \nKarl-Heinz Palma   &   Nicoletta Pederiva \n[/vc_column_text][/vc_column][/vc_row][vc_row type=”in_container” full_screen_row_position=”middle” scene_position=”center” text_color=”dark” text_align=”left” overlay_strength=”0.3″][vc_column column_padding=”no-extra-padding” column_padding_position=”all” background_color_opacity=”1″ background_hover_color_opacity=”1″ column_shadow=”none” width=”1/1″ tablet_text_alignment=”default” phone_text_alignment=”default” column_border_width=”none” column_border_style=”solid”][vc_gallery type=”image_grid” layout=”4″ masonry_style=”true” gallery_style=”3″ load_in_animation=”fade_in_from_bottom” img_size=”medium”][/vc_column][/vc_row]
URL:https://golfclubpetersberg.it/it/event/clubmeisterschaft-campionato-sociale-3/
LOCATION:Golfclub Petersberg\, Unterwinkl 5\, Petersberg\, 39050\, Italia
ORGANIZER;CN="Golfclub Petersberg":MAILTO:info@golfclubpetersberg.it
END:VEVENT
BEGIN:VEVENT
DTSTART;VALUE=DATE:20160924
DTEND;VALUE=DATE:20160925
DTSTAMP:20260420T014426
CREATED:20170731T133843Z
LAST-MODIFIED:20170731T133843Z
UID:5979-1474675200-1474761599@golfclubpetersberg.it
SUMMARY:GANISCHGER GOLF TROPHY
DESCRIPTION:[vc_row type=”in_container” full_screen_row_position=”middle” scene_position=”center” text_color=”dark” text_align=”left” overlay_strength=”0.3″][vc_column column_padding=”no-extra-padding” column_padding_position=”all” background_color_opacity=”1″ background_hover_color_opacity=”1″ column_shadow=”none” width=”1/1″ tablet_text_alignment=”default” phone_text_alignment=”default” column_border_width=”none” column_border_style=”solid”][vc_column_text]\nGANISCHGER GOLF TROPHY\nwww.ganischger.com \n18 Loch stableford mit Kanonenstart \nErgebnisse – Risultati:\n\nBrutto/Lordo    Netto-1    Netto-2    Netto-3  \n   \n \n[/vc_column_text][/vc_column][/vc_row][vc_row type=”in_container” full_screen_row_position=”middle” scene_position=”center” text_color=”dark” text_align=”left” overlay_strength=”0.3″][vc_column column_padding=”no-extra-padding” column_padding_position=”all” background_color_opacity=”1″ background_hover_color_opacity=”1″ column_shadow=”none” width=”1/1″ tablet_text_alignment=”default” phone_text_alignment=”default” column_border_width=”none” column_border_style=”solid”][vc_gallery type=”image_grid” images=”2336\,2337\,2338\,2339\,2340\,2341\,2342\,2343\,2344\,2345\,2346″ layout=”4″ masonry_style=”true” gallery_style=”3″ load_in_animation=”fade_in_from_bottom” img_size=”medium”][/vc_column][/vc_row]
URL:https://golfclubpetersberg.it/it/event/ganischger-golf-trophy/
LOCATION:Golfclub Petersberg\, Unterwinkl 5\, Petersberg\, 39050\, Italia
ORGANIZER;CN="Golfclub Petersberg":MAILTO:info@golfclubpetersberg.it
END:VEVENT
END:VCALENDAR