BEGIN:VCALENDAR
VERSION:2.0
PRODID:-//GOLFCLUB PETERSBERG  - Golf in Alto Adige - ECPv6.15.20//NONSGML v1.0//EN
CALSCALE:GREGORIAN
METHOD:PUBLISH
X-ORIGINAL-URL:https://golfclubpetersberg.it/it/
X-WR-CALDESC:Eventi per GOLFCLUB PETERSBERG  - Golf in Alto Adige
REFRESH-INTERVAL;VALUE=DURATION:PT1H
X-Robots-Tag:noindex
X-PUBLISHED-TTL:PT1H
BEGIN:VTIMEZONE
TZID:Europe/Rome
BEGIN:DAYLIGHT
TZOFFSETFROM:+0100
TZOFFSETTO:+0200
TZNAME:CEST
DTSTART:20150329T010000
END:DAYLIGHT
BEGIN:STANDARD
TZOFFSETFROM:+0200
TZOFFSETTO:+0100
TZNAME:CET
DTSTART:20151025T010000
END:STANDARD
BEGIN:DAYLIGHT
TZOFFSETFROM:+0100
TZOFFSETTO:+0200
TZNAME:CEST
DTSTART:20160327T010000
END:DAYLIGHT
BEGIN:STANDARD
TZOFFSETFROM:+0200
TZOFFSETTO:+0100
TZNAME:CET
DTSTART:20161030T010000
END:STANDARD
BEGIN:DAYLIGHT
TZOFFSETFROM:+0100
TZOFFSETTO:+0200
TZNAME:CEST
DTSTART:20170326T010000
END:DAYLIGHT
BEGIN:STANDARD
TZOFFSETFROM:+0200
TZOFFSETTO:+0100
TZNAME:CET
DTSTART:20171029T010000
END:STANDARD
END:VTIMEZONE
BEGIN:VEVENT
DTSTART;VALUE=DATE:20161015
DTEND;VALUE=DATE:20161016
DTSTAMP:20260419T235155
CREATED:20170731T125920Z
LAST-MODIFIED:20170731T125920Z
UID:5973-1476489600-1476575999@golfclubpetersberg.it
SUMMARY:Pfeifentrophy
DESCRIPTION:[vc_row type=”in_container” full_screen_row_position=”middle” scene_position=”center” text_color=”dark” text_align=”left” overlay_strength=”0.3″][vc_column column_padding=”no-extra-padding” column_padding_position=”all” background_color_opacity=”1″ background_hover_color_opacity=”1″ column_shadow=”none” width=”1/1″ tablet_text_alignment=”default” phone_text_alignment=”default” column_border_width=”none” column_border_style=”solid”][vc_column_text][/vc_column_text][/vc_column][/vc_row][vc_row type=”in_container” full_screen_row_position=”middle” scene_position=”center” text_color=”dark” text_align=”left” overlay_strength=”0.3″][vc_column column_padding=”no-extra-padding” column_padding_position=”all” background_color_opacity=”1″ background_hover_color_opacity=”1″ column_shadow=”none” width=”1/1″ tablet_text_alignment=”default” phone_text_alignment=”default” column_border_width=”none” column_border_style=”solid”][vc_gallery type=”image_grid” images=”2219\,2220\,2221\,2222\,2223\,2224\,2225\,2226\,2227\,2228\,2229\,2230\,2231\,2232\,2233\,2234\,2235″ layout=”4″ masonry_style=”true” gallery_style=”3″ load_in_animation=”fade_in_from_bottom” img_size=”medium”][/vc_column][/vc_row]
URL:https://golfclubpetersberg.it/it/event/pfeifentrophy/
LOCATION:Golfclub Petersberg\, Unterwinkl 5\, Petersberg\, 39050\, Italia
ORGANIZER;CN="Golfclub Petersberg":MAILTO:info@golfclubpetersberg.it
END:VEVENT
BEGIN:VEVENT
DTSTART;VALUE=DATE:20161016
DTEND;VALUE=DATE:20161017
DTSTAMP:20260419T235155
CREATED:20170731T125520Z
LAST-MODIFIED:20170731T125520Z
UID:5971-1476576000-1476662399@golfclubpetersberg.it
SUMMARY:SKI CENTER LATEMAR GOLF TROPHY
DESCRIPTION:[vc_row type=”in_container” full_screen_row_position=”middle” scene_position=”center” text_color=”dark” text_align=”left” overlay_strength=”0.3″][vc_column column_padding=”no-extra-padding” column_padding_position=”all” background_color_opacity=”1″ background_hover_color_opacity=”1″ column_shadow=”none” width=”1/1″ tablet_text_alignment=”default” phone_text_alignment=”default” column_border_width=”none” column_border_style=”solid”][vc_column_text]\nSKI CENTER LATEMAR GOLF TROPHY\nKanonenstart – Partenza simultanea:  ore 11.00 Uhr \n \nwww.obereggen.com \n  \n  \nNEUIGKEITEN 2016-2017    NOVITÀ 2016-2017  \n  \n  \n \n  \n  \nBRUTTO/LORDO    NETTO-1    NETTO-2    NETTO-3[/vc_column_text][/vc_column][/vc_row][vc_row type=”in_container” full_screen_row_position=”middle” scene_position=”center” text_color=”dark” text_align=”left” overlay_strength=”0.3″][vc_column column_padding=”no-extra-padding” column_padding_position=”all” background_color_opacity=”1″ background_hover_color_opacity=”1″ column_shadow=”none” width=”1/1″ tablet_text_alignment=”default” phone_text_alignment=”default” column_border_width=”none” column_border_style=”solid”][vc_gallery type=”image_grid” layout=”4″ masonry_style=”true” gallery_style=”3″ load_in_animation=”fade_in_from_bottom” img_size=”medium”][/vc_column][/vc_row]
URL:https://golfclubpetersberg.it/it/event/ski-center-latemar-golf-trophy/
LOCATION:Golfclub Petersberg\, Unterwinkl 5\, Petersberg\, 39050\, Italia
ORGANIZER;CN="Golfclub Petersberg":MAILTO:info@golfclubpetersberg.it
END:VEVENT
BEGIN:VEVENT
DTSTART;VALUE=DATE:20161022
DTEND;VALUE=DATE:20161023
DTSTAMP:20260419T235155
CREATED:20170731T134149Z
LAST-MODIFIED:20170731T134149Z
UID:5975-1477094400-1477180799@golfclubpetersberg.it
SUMMARY:Eggentaler Meisterschaft  CAMPIONATO VAL D'EGA
DESCRIPTION:[vc_row type=”in_container” full_screen_row_position=”middle” scene_position=”center” text_color=”dark” text_align=”left” overlay_strength=”0.3″][vc_column column_padding=”no-extra-padding” column_padding_position=”all” background_color_opacity=”1″ background_hover_color_opacity=”1″ column_shadow=”none” width=”1/1″ tablet_text_alignment=”default” phone_text_alignment=”default” column_border_width=”none” column_border_style=”solid”][vc_column_text]\nCAMPIONATO VAL D’EGA\nSabato\, 22 ottobre 2016 \nAlla gara sono invitati tutti i giocatori che sono nati o residenti in Val D’Ega. \n[/vc_column_text][/vc_column][/vc_row][vc_row type=”in_container” full_screen_row_position=”middle” scene_position=”center” text_color=”dark” text_align=”left” overlay_strength=”0.3″][vc_column column_padding=”no-extra-padding” column_padding_position=”all” background_color_opacity=”1″ background_hover_color_opacity=”1″ column_shadow=”none” width=”1/1″ tablet_text_alignment=”default” phone_text_alignment=”default” column_border_width=”none” column_border_style=”solid”][vc_gallery type=”image_grid” layout=”4″ masonry_style=”true” gallery_style=”3″ load_in_animation=”fade_in_from_bottom” img_size=”medium”][/vc_column][/vc_row]
URL:https://golfclubpetersberg.it/it/event/eggentaler-meisterschaft-campionato-val-dega/
LOCATION:Golfclub Petersberg\, Unterwinkl 5\, Petersberg\, 39050\, Italia
ORGANIZER;CN="Golfclub Petersberg":MAILTO:info@golfclubpetersberg.it
END:VEVENT
BEGIN:VEVENT
DTSTART;VALUE=DATE:20161023
DTEND;VALUE=DATE:20161024
DTSTAMP:20260419T235155
CREATED:20170731T094038Z
LAST-MODIFIED:20170731T094038Z
UID:5977-1477180800-1477267199@golfclubpetersberg.it
SUMMARY:TURNIER DER SPORTKOMMISSION TROFEO DELLA COMMISSIONE SPORTIVA
DESCRIPTION:[vc_row type=”in_container” full_screen_row_position=”middle” scene_position=”center” text_color=”dark” text_align=”left” overlay_strength=”0.3″][vc_column column_padding=”no-extra-padding” column_padding_position=”all” background_color_opacity=”1″ background_hover_color_opacity=”1″ column_shadow=”none” width=”1/1″ tablet_text_alignment=”default” phone_text_alignment=”default” column_border_width=”none” column_border_style=”solid”][vc_column_text]\nTURNIER DER SPORTKOMMISSION\nTROFEO DELLA COMMISSIONE SPORTIVA\nSTABLEFORD – 3 cat. \nStartzeiten – Partenze: \n\n[/vc_column_text][/vc_column][/vc_row][vc_row type=”in_container” full_screen_row_position=”middle” scene_position=”center” text_color=”dark” text_align=”left” disable_element=”yes” overlay_strength=”0.3″][vc_column column_padding=”no-extra-padding” column_padding_position=”all” background_color_opacity=”1″ background_hover_color_opacity=”1″ column_shadow=”none” width=”1/1″ tablet_text_alignment=”default” phone_text_alignment=”default” column_border_width=”none” column_border_style=”solid”][vc_gallery type=”image_grid” layout=”4″ masonry_style=”true” gallery_style=”3″ load_in_animation=”fade_in_from_bottom” img_size=”medium”][/vc_column][/vc_row]
URL:https://golfclubpetersberg.it/it/event/turnier-der-sportkommission-trofeo-della-commissione-sportiva/
LOCATION:Golfclub Petersberg\, Unterwinkl 5\, Petersberg\, 39050\, Italia
ORGANIZER;CN="Golfclub Petersberg":MAILTO:info@golfclubpetersberg.it
END:VEVENT
BEGIN:VEVENT
DTSTART;VALUE=DATE:20161030
DTEND;VALUE=DATE:20161031
DTSTAMP:20260419T235155
CREATED:20170731T130925Z
LAST-MODIFIED:20170731T130925Z
UID:5969-1477785600-1477871999@golfclubpetersberg.it
SUMMARY:LOUISIANA DAY DI FINE STAGIONE
DESCRIPTION:[vc_row type=”in_container” full_screen_row_position=”middle” scene_position=”center” text_color=”dark” text_align=”left” overlay_strength=”0.3″][vc_column column_padding=”no-extra-padding” column_padding_position=”all” background_color_opacity=”1″ background_hover_color_opacity=”1″ column_shadow=”none” width=”1/1″ tablet_text_alignment=”default” phone_text_alignment=”default” column_border_width=”none” column_border_style=”solid”][vc_column_text]\nLOUISIANA DAY\nScramble-Louisiana für 4-er Mannschaften mit Auslosung vor dem Start\nLouisiana a 4 giocatori con estrazione delle squadre prima della partenza \nVerlosung – estrazione: ore 10.00 Uhr \nNETTO \nBRUTTO-LORDO[/vc_column_text][/vc_column][/vc_row][vc_row type=”in_container” full_screen_row_position=”middle” scene_position=”center” text_color=”dark” text_align=”left” overlay_strength=”0.3″][vc_column column_padding=”no-extra-padding” column_padding_position=”all” background_color_opacity=”1″ background_hover_color_opacity=”1″ column_shadow=”none” width=”1/1″ tablet_text_alignment=”default” phone_text_alignment=”default” column_border_width=”none” column_border_style=”solid”][vc_gallery type=”image_grid” layout=”4″ masonry_style=”true” gallery_style=”3″ load_in_animation=”fade_in_from_bottom” img_size=”medium”][/vc_column][/vc_row]
URL:https://golfclubpetersberg.it/it/event/louisiana-day-fine-stagione/
LOCATION:Golfclub Petersberg\, Unterwinkl 5\, Petersberg\, 39050\, Italia
ORGANIZER;CN="Golfclub Petersberg":MAILTO:info@golfclubpetersberg.it
END:VEVENT
END:VCALENDAR